FILENAME: O4510719.NES.1006897.tif
QUADRANGLE_NAME: WALKER HILL
QUADRANT: NE
WEST_LONGITUDE: -107 41 15.00000
EAST_LONGITUDE: -107 37 30.00000
NORTH_LATITUDE: 45 45 0.00000
SOUTH_LATITUDE: 45 41 15.00000
PRODUCTION_DATE: 1999 4 23
RASTER_ORDER: LEFT_RIGHT/TOP_BOTTOM
BAND_ORGANIZATION: SINGLE FILE
BAND_CONTENT: BLACK&WHITE
BAND_CONTENT: UNDEFINED
BAND_CONTENT: UNDEFINED
BITS_PER_PIXEL: 8
SAMPLES_AND_LINES: 5748 7710
HORIZONTAL_DATUM: NAD83
HORIZONTAL_COORDINATE_SYSTEM: UTM
COORDINATE_ZONE: 13
HORIZONTAL_UNITS: METERS
HORIZONTAL_RESOLUTION: 1.00000
SECONDARY_HORIZONTAL_DATUM: NAD27
XY_ORIGIN: 290382.00000 5070085.00000
SECONDARY_XY_ORIGIN: 290426.15600 5069868.14300
NATION: US
NATION: "SCIENCE
STATE: MT
NW_QUAD_CORNER_XY: 290967.34600 5069784.27500
NE_QUAD_CORNER_XY: 295828.48400 5069622.73000
SE_QUAD_CORNERY_XY: 295600.57300 5062679.07000
SW_QUAD_CORNER_XY: 290734.00100 5062840.62300
SECONDARY_NW_QUAD_XY: 290961.07300 5069566.58400
SECONDARY_NE_QUAD_XY: 295822.35700 5069405.03400
SECONDARY_SE_QUAD_XY: 295594.44700 5062461.41900
SECONDARY_SW_QUAD_XY: 290727.73000 5062622.97800
RMSE_XY: 0.80000
IMAGE_SOURCE: BLACK AND WHITE FILM
SOURCE_IMAGE_ID: NAPP 9135 162
SOURCE_IMAGE_DATE: 1996 08 19
SOURCE_IMAGE_ID: NAPP 9139 053
SOURCE_IMAGE_DATE: 1996 08 26
SOURCE_IMAGE_ID: NAPP 9135 160
SOURCE_IMAGE_DATE: 1996 08 19
SOURCE_IMAGE_ID: NAPP 9135 115
SOURCE_IMAGE_DATE: 1996 08 19
SOURCE_IMAGE_ID: NAPP 9135 116
SOURCE_IMAGE_DATE: 1996 08 19
SOURCE_DEM_DATE: 1956 00 00
AGENCY: WESTERN MAPPING CENTER (WMC)
PRODUCER: UNDEFINED
PRODUCTION_SYSTEM: GIS/MAGIC
COMPRESSION: UNDEFINED
STANDARD_VERSION: 1996 12
METADATA_DATE: 1999 05 18
DATA_FILE_SIZE: 44322828
BYTE_COUNT: 5748
