FILENAME: O4510719.NWS.1006898.tif
QUADRANGLE_NAME: WALKER HILL
QUADRANT: NW
WEST_LONGITUDE: -107 45 0.00000
EAST_LONGITUDE: -107 41 15.00000
NORTH_LATITUDE: 45 45 0.00000
SOUTH_LATITUDE: 45 41 15.00000
PRODUCTION_DATE: 1999 4 23
RASTER_ORDER: LEFT_RIGHT/TOP_BOTTOM
BAND_ORGANIZATION: SINGLE FILE
BAND_CONTENT: BLACK&WHITE
BAND_CONTENT: UNDEFINED
BAND_CONTENT: UNDEFINED
BITS_PER_PIXEL: 8
SAMPLES_AND_LINES: 5754 7713
HORIZONTAL_DATUM: NAD83
HORIZONTAL_COORDINATE_SYSTEM: UTM
COORDINATE_ZONE: 13
HORIZONTAL_UNITS: METERS
HORIZONTAL_RESOLUTION: 1.00000
SECONDARY_HORIZONTAL_DATUM: NAD27
XY_ORIGIN: 285515.00000 5070250.00000
SECONDARY_XY_ORIGIN: 285559.36600 5070033.22400
NATION: US
NATION: "SCIENCE
STATE: MT
NW_QUAD_CORNER_XY: 286106.21500 5069949.62600
NE_QUAD_CORNER_XY: 290967.34600 5069784.27500
SE_QUAD_CORNERY_XY: 290734.00100 5062840.62300
SW_QUAD_CORNER_XY: 285867.43500 5063005.98300
SECONDARY_NW_QUAD_XY: 286099.79600 5069731.94000
SECONDARY_NE_QUAD_XY: 290961.07300 5069566.58400
SECONDARY_SE_QUAD_XY: 290727.73000 5062622.97800
SECONDARY_SW_QUAD_XY: 285861.01800 5062788.34300
RMSE_XY: 1.00000
IMAGE_SOURCE: BLACK AND WHITE FILM
SOURCE_IMAGE_ID: NAPP 9139 053
SOURCE_IMAGE_DATE: 1996 08 26
SOURCE_IMAGE_ID: NAPP 9131 294
SOURCE_IMAGE_DATE: 1996 07 29
SOURCE_IMAGE_ID: NAPP 9139 055
SOURCE_IMAGE_DATE: 1996 08 26
SOURCE_IMAGE_ID: NAPP 9139 052
SOURCE_IMAGE_DATE: 1996 08 26
SOURCE_DEM_DATE: 1956 00 00
AGENCY: WESTERN MAPPING CENTER (WMC)
PRODUCER: UNDEFINED
PRODUCTION_SYSTEM: GIS/MAGIC
COMPRESSION: UNDEFINED
STANDARD_VERSION: 1996 12
METADATA_DATE: 1999 05 18
DATA_FILE_SIZE: 44386356
BYTE_COUNT: 5754
