FILENAME: O4510719.SES.1006899.tif
QUADRANGLE_NAME: WALKER HILL
QUADRANT: SE
WEST_LONGITUDE: -107 41 15.00000
EAST_LONGITUDE: -107 37 30.00000
NORTH_LATITUDE: 45 41 15.00000
SOUTH_LATITUDE: 45 37 30.00000
PRODUCTION_DATE: 1999 4 23
RASTER_ORDER: LEFT_RIGHT/TOP_BOTTOM
BAND_ORGANIZATION: SINGLE FILE
BAND_CONTENT: BLACK&WHITE
BAND_CONTENT: UNDEFINED
BAND_CONTENT: UNDEFINED
BITS_PER_PIXEL: 8
SAMPLES_AND_LINES: 5754 7709
HORIZONTAL_DATUM: NAD83
HORIZONTAL_COORDINATE_SYSTEM: UTM
COORDINATE_ZONE: 13
HORIZONTAL_UNITS: METERS
HORIZONTAL_RESOLUTION: 1.00000
SECONDARY_HORIZONTAL_DATUM: NAD27
XY_ORIGIN: 290148.00000 5063141.00000
SECONDARY_XY_ORIGIN: 290192.40200 5062924.54600
NATION: US
NATION: "SCIENCE
STATE: MT
NW_QUAD_CORNER_XY: 290734.00100 5062840.62300
NE_QUAD_CORNER_XY: 295600.57300 5062679.07000
SE_QUAD_CORNERY_XY: 295372.90600 5055735.47000
SW_QUAD_CORNER_XY: 290500.90600 5055897.03100
SECONDARY_NW_QUAD_XY: 290727.73000 5062622.97800
SECONDARY_NE_QUAD_XY: 295594.44700 5062461.41900
SECONDARY_SE_QUAD_XY: 295366.78200 5055517.86600
SECONDARY_SW_QUAD_XY: 290494.63600 5055679.43200
RMSE_XY: 1.00000
IMAGE_SOURCE: BLACK AND WHITE FILM
SOURCE_IMAGE_ID: NAPP 9135 113
SOURCE_IMAGE_DATE: 1996 08 19
SOURCE_IMAGE_ID: NAPP 9139 055
SOURCE_IMAGE_DATE: 1996 08 26
SOURCE_IMAGE_ID: NAPP 9139 025
SOURCE_IMAGE_DATE: 1996 08 26
SOURCE_IMAGE_ID: NAPP 9135 163
SOURCE_IMAGE_DATE: 1996 08 19
SOURCE_IMAGE_ID: NAPP 9135 162
SOURCE_IMAGE_DATE: 1996 08 19
SOURCE_DEM_DATE: 1956 00 00
AGENCY: WESTERN MAPPING CENTER (WMC)
PRODUCER: UNDEFINED
PRODUCTION_SYSTEM: GIS/MAGIC
COMPRESSION: UNDEFINED
STANDARD_VERSION: 1996 12
METADATA_DATE: 1999 05 18
DATA_FILE_SIZE: 44363340
BYTE_COUNT: 5754
