FILENAME: O4510718.NWS.1006724.tif
QUADRANGLE_NAME: ROWLEY
QUADRANT: NW
WEST_LONGITUDE: -107 52 30.00000
EAST_LONGITUDE: -107 48 45.00000
NORTH_LATITUDE: 45 45 0.00000
SOUTH_LATITUDE: 45 41 15.00000
PRODUCTION_DATE: 1999 4 23
RASTER_ORDER: LEFT_RIGHT/TOP_BOTTOM
BAND_ORGANIZATION: SINGLE FILE
BAND_CONTENT: BLACK&WHITE
BAND_CONTENT: UNDEFINED
BAND_CONTENT: UNDEFINED
BITS_PER_PIXEL: 8
SAMPLES_AND_LINES: 5766 7721
HORIZONTAL_DATUM: NAD83
HORIZONTAL_COORDINATE_SYSTEM: UTM
COORDINATE_ZONE: 13
HORIZONTAL_UNITS: METERS
HORIZONTAL_RESOLUTION: 1.00000
SECONDARY_HORIZONTAL_DATUM: NAD27
XY_ORIGIN: 275781.00000 5070592.00000
SECONDARY_XY_ORIGIN: 275825.98300 5070376.08800
NATION: US
NATION: "SCIENCE
STATE: MT
NW_QUAD_CORNER_XY: 276383.97300 5070291.75000
NE_QUAD_CORNER_XY: 281245.09000 5070118.78400
SE_QUAD_CORNERY_XY: 281000.87500 5063175.15100
SW_QUAD_CORNER_XY: 276134.32200 5063348.12600
SECONDARY_NW_QUAD_XY: 276377.26200 5070074.07400
SECONDARY_NE_QUAD_XY: 281238.52600 5069901.10300
SECONDARY_SE_QUAD_XY: 280994.31200 5062957.51500
SECONDARY_SW_QUAD_XY: 276127.61200 5063130.49500
RMSE_XY: 0.80000
IMAGE_SOURCE: BLACK AND WHITE FILM
SOURCE_IMAGE_ID: NAPP 9132 014
SOURCE_IMAGE_DATE: 1996 07 29
SOURCE_IMAGE_ID: NAPP 9132 012
SOURCE_IMAGE_DATE: 1996 07 29
SOURCE_DEM_DATE: 1968 00 00
AGENCY: WESTERN MAPPING CENTER (WMC)
PRODUCER: UNDEFINED
PRODUCTION_SYSTEM: GIS/MAGIC
COMPRESSION: UNDEFINED
STANDARD_VERSION: 1996 12
METADATA_DATE: 1999 05 18
DATA_FILE_SIZE: 44525052
BYTE_COUNT: 5766
