FILENAME: O4510717.NES.1006491.tif
QUADRANGLE_NAME: ROWLEY NW
QUADRANT: NE
WEST_LONGITUDE: -107 56 15.00000
EAST_LONGITUDE: -107 52 30.00000
NORTH_LATITUDE: 45 45 0.00000
SOUTH_LATITUDE: 45 41 15.00000
PRODUCTION_DATE: 1999 4 23
RASTER_ORDER: LEFT_RIGHT/TOP_BOTTOM
BAND_ORGANIZATION: SINGLE FILE
BAND_CONTENT: BLACK&WHITE
BAND_CONTENT: UNDEFINED
BAND_CONTENT: UNDEFINED
BITS_PER_PIXEL: 8
SAMPLES_AND_LINES: 5771 7725
HORIZONTAL_DATUM: NAD83
HORIZONTAL_COORDINATE_SYSTEM: UTM
COORDINATE_ZONE: 13
HORIZONTAL_UNITS: METERS
HORIZONTAL_RESOLUTION: 1.00000
SECONDARY_HORIZONTAL_DATUM: NAD27
XY_ORIGIN: 270914.00000 5070769.00000
SECONDARY_XY_ORIGIN: 270959.29200 5070553.51600
NATION: US
NATION: "SCIENCE
STATE: MT
NW_QUAD_CORNER_XY: 271522.86100 5070468.52300
NE_QUAD_CORNER_XY: 276383.97300 5070291.75000
SE_QUAD_CORNERY_XY: 276134.32200 5063348.12600
SW_QUAD_CORNER_XY: 271267.77400 5063524.90800
SECONDARY_NW_QUAD_XY: 271516.00500 5070250.85300
SECONDARY_NE_QUAD_XY: 276377.26200 5070074.07400
SECONDARY_SE_QUAD_XY: 276127.61200 5063130.49500
SECONDARY_SW_QUAD_XY: 271260.91900 5063307.28300
RMSE_XY: 1.20000
IMAGE_SOURCE: BLACK AND WHITE FILM
SOURCE_IMAGE_ID: NAPP 9139 133
SOURCE_IMAGE_DATE: 1996 08 26
SOURCE_DEM_DATE: 1968 00 00
AGENCY: WESTERN MAPPING CENTER (WMC)
PRODUCER: UNDEFINED
PRODUCTION_SYSTEM: GIS/MAGIC
COMPRESSION: UNDEFINED
STANDARD_VERSION: 1996 12
METADATA_DATE: 1999 05 18
DATA_FILE_SIZE: 44586746
BYTE_COUNT: 5771
