FILENAME: O4510716.SES.1010633.tif
QUADRANGLE_NAME: WOLF SCHOOL
QUADRANT: SE
WEST_LONGITUDE: -107 3 45.00000
EAST_LONGITUDE: -107 0 0.00000
NORTH_LATITUDE: 45 48 45.00000
SOUTH_LATITUDE: 45 45 0.00000
PRODUCTION_DATE: 1999 5 24
RASTER_ORDER: LEFT_RIGHT/TOP_BOTTOM
BAND_ORGANIZATION: SINGLE FILE
BAND_CONTENT: BLACK&WHITE
BAND_CONTENT: UNDEFINED
BAND_CONTENT: UNDEFINED
BITS_PER_PIXEL: 8
SAMPLES_AND_LINES: 5684 7670
HORIZONTAL_DATUM: NAD83
HORIZONTAL_COORDINATE_SYSTEM: UTM
COORDINATE_ZONE: 13
HORIZONTAL_UNITS: METERS
HORIZONTAL_RESOLUTION: 1.00000
SECONDARY_HORIZONTAL_DATUM: NAD27
XY_ORIGIN: 339231.00000 5075584.00000
SECONDARY_XY_ORIGIN: 339273.12300 5075366.43600
NATION: US
NATION: "SCIENCE
STATE: MT
NW_QUAD_CORNER_XY: 339758.20300 5075283.85500
NE_QUAD_CORNER_XY: 344613.96000 5075160.36300
SE_QUAD_CORNERY_XY: 344440.17700 5068216.56200
SW_QUAD_CORNER_XY: 339578.98400 5068340.06000
SECONDARY_NW_QUAD_XY: 339753.38800 5075066.07600
SECONDARY_NE_QUAD_XY: 344609.29200 5074942.58000
SECONDARY_SE_QUAD_XY: 344435.50900 5067998.82300
SECONDARY_SW_QUAD_XY: 339574.17000 5068122.32600
RMSE_XY: 1.90000
IMAGE_SOURCE: BLACK AND WHITE FILM
SOURCE_IMAGE_ID: NAPP 9099 139
SOURCE_IMAGE_DATE: 1996 07 14
SOURCE_IMAGE_ID: NAPP 9099 194
SOURCE_IMAGE_DATE: 1996 07 14
SOURCE_IMAGE_ID: NAPP 9122 005
SOURCE_IMAGE_DATE: 1996 09 11
SOURCE_DEM_DATE: 1971 00 00
AGENCY: WESTERN MAPPING CENTER (WMC)
PRODUCER: UNDEFINED
PRODUCTION_SYSTEM: GIS/MAGIC
COMPRESSION: UNDEFINED
STANDARD_VERSION: 1996 12
METADATA_DATE: 1999 06 07
DATA_FILE_SIZE: 43601964
BYTE_COUNT: 5684
