FILENAME: O4510715.NWS.1010616.tif
QUADRANGLE_NAME: IRON SPRING SW
QUADRANT: NW
WEST_LONGITUDE: -107 15 0.00000
EAST_LONGITUDE: -107 11 15.00000
NORTH_LATITUDE: 45 52 30.00000
SOUTH_LATITUDE: 45 48 45.00000
PRODUCTION_DATE: 1999 5 21
RASTER_ORDER: LEFT_RIGHT/TOP_BOTTOM
BAND_ORGANIZATION: SINGLE FILE
BAND_CONTENT: BLACK&WHITE
BAND_CONTENT: UNDEFINED
BAND_CONTENT: UNDEFINED
BITS_PER_PIXEL: 8
SAMPLES_AND_LINES: 5697 7682
HORIZONTAL_DATUM: NAD83
HORIZONTAL_COORDINATE_SYSTEM: UTM
COORDINATE_ZONE: 13
HORIZONTAL_UNITS: METERS
HORIZONTAL_RESOLUTION: 1.00000
SECONDARY_HORIZONTAL_DATUM: NAD27
XY_ORIGIN: 324841.00000 5082921.00000
SECONDARY_XY_ORIGIN: 324883.68200 5082703.39400
NATION: US
NATION: "SCIENCE
STATE: MT
NW_QUAD_CORNER_XY: 325386.69800 5082620.98600
NE_QUAD_CORNER_XY: 330236.99700 5082486.09300
SE_QUAD_CORNERY_XY: 330046.70300 5075542.24800
SW_QUAD_CORNER_XY: 325190.96200 5075677.14900
SECONDARY_NW_QUAD_XY: 325381.44400 5082403.17400
SECONDARY_NE_QUAD_XY: 330231.88900 5082268.27700
SECONDARY_SE_QUAD_XY: 330041.59700 5075324.47600
SECONDARY_SW_QUAD_XY: 325185.70900 5075459.38200
RMSE_XY: 1.10000
IMAGE_SOURCE: BLACK AND WHITE FILM
SOURCE_IMAGE_ID: NAPP 9098 040
SOURCE_IMAGE_DATE: 1996 07 14
SOURCE_IMAGE_ID: NAPP 9126 041
SOURCE_IMAGE_DATE: 1996 07 14
SOURCE_IMAGE_ID: NAPP 9098 041
SOURCE_IMAGE_DATE: 1996 07 14
SOURCE_DEM_DATE: 1971 00 00
AGENCY: WESTERN MAPPING CENTER (WMC)
PRODUCER: UNDEFINED
PRODUCTION_SYSTEM: GIS/MAGIC
COMPRESSION: UNDEFINED
STANDARD_VERSION: 1996 12
METADATA_DATE: 1999 06 07
DATA_FILE_SIZE: 43770051
BYTE_COUNT: 5697
