FILENAME: O4510715.SES.1010617.tif
QUADRANGLE_NAME: IRON SPRING SW
QUADRANT: SE
WEST_LONGITUDE: -107 11 15.00000
EAST_LONGITUDE: -107 7 30.00000
NORTH_LATITUDE: 45 48 45.00000
SOUTH_LATITUDE: 45 45 0.00000
PRODUCTION_DATE: 1999 5 21
RASTER_ORDER: LEFT_RIGHT/TOP_BOTTOM
BAND_ORGANIZATION: SINGLE FILE
BAND_CONTENT: BLACK&WHITE
BAND_CONTENT: UNDEFINED
BAND_CONTENT: UNDEFINED
BITS_PER_PIXEL: 8
SAMPLES_AND_LINES: 5697 7679
HORIZONTAL_DATUM: NAD83
HORIZONTAL_COORDINATE_SYSTEM: UTM
COORDINATE_ZONE: 13
HORIZONTAL_UNITS: METERS
HORIZONTAL_RESOLUTION: 1.00000
SECONDARY_HORIZONTAL_DATUM: NAD27
XY_ORIGIN: 329507.00000 5075843.00000
SECONDARY_XY_ORIGIN: 329549.55500 5075625.54500
NATION: US
NATION: "SCIENCE
STATE: MT
NW_QUAD_CORNER_XY: 330046.70300 5075542.24800
NE_QUAD_CORNER_XY: 334902.45000 5075411.15000
SE_QUAD_CORNERY_XY: 334717.79600 5068467.36200
SW_QUAD_CORNER_XY: 329856.61300 5068598.46800
SECONDARY_NW_QUAD_XY: 330041.59700 5075324.47600
SECONDARY_NE_QUAD_XY: 334897.49000 5075193.37400
SECONDARY_SE_QUAD_XY: 334712.83600 5068249.63200
SECONDARY_SW_QUAD_XY: 329851.50700 5068380.74100
RMSE_XY: 1.50000
IMAGE_SOURCE: BLACK AND WHITE FILM
SOURCE_IMAGE_ID: NAPP 9100 052
SOURCE_IMAGE_DATE: 1996 07 14
SOURCE_IMAGE_ID: NAPP 9100 053
SOURCE_IMAGE_DATE: 1996 07 14
SOURCE_IMAGE_ID: NAPP 9099 192
SOURCE_IMAGE_DATE: 1996 07 14
SOURCE_DEM_DATE: 1971 00 00
AGENCY: WESTERN MAPPING CENTER (WMC)
PRODUCER: UNDEFINED
PRODUCTION_SYSTEM: GIS/MAGIC
COMPRESSION: UNDEFINED
STANDARD_VERSION: 1996 12
METADATA_DATE: 1999 06 07
DATA_FILE_SIZE: 43752960
BYTE_COUNT: 5697
