FILENAME: O4510713.NWS.1010600.tif
QUADRANGLE_NAME: THE DUGOUT
QUADRANT: NW
WEST_LONGITUDE: -107 30 0.00000
EAST_LONGITUDE: -107 26 15.00000
NORTH_LATITUDE: 45 52 30.00000
SOUTH_LATITUDE: 45 48 45.00000
PRODUCTION_DATE: 1999 6 4
RASTER_ORDER: LEFT_RIGHT/TOP_BOTTOM
BAND_ORGANIZATION: SINGLE FILE
BAND_CONTENT: BLACK&WHITE
BAND_CONTENT: UNDEFINED
BAND_CONTENT: UNDEFINED
BITS_PER_PIXEL: 8
SAMPLES_AND_LINES: 5720 7697
HORIZONTAL_DATUM: NAD83
HORIZONTAL_COORDINATE_SYSTEM: UTM
COORDINATE_ZONE: 13
HORIZONTAL_UNITS: METERS
HORIZONTAL_RESOLUTION: 1.00000
SECONDARY_HORIZONTAL_DATUM: NAD27
XY_ORIGIN: 305417.00000 5083499.00000
SECONDARY_XY_ORIGIN: 305460.09900 5083281.41900
NATION: US
NATION: "SCIENCE
STATE: MT
NW_QUAD_CORNER_XY: 305985.56500 5083198.59700
NE_QUAD_CORNER_XY: 310835.83800 5083048.48800
SE_QUAD_CORNERY_XY: 310623.77300 5076104.67800
SW_QUAD_CORNER_XY: 305768.05500 5076254.79700
SECONDARY_NW_QUAD_XY: 305979.72700 5082980.80300
SECONDARY_NE_QUAD_XY: 310830.14600 5082830.68900
SECONDARY_SE_QUAD_XY: 310618.08200 5075886.92300
SECONDARY_SW_QUAD_XY: 305762.21900 5076037.04700
RMSE_XY: 1.70000
IMAGE_SOURCE: BLACK AND WHITE FILM
SOURCE_IMAGE_ID: NAPP 9133 212
SOURCE_IMAGE_DATE: 1996 08 08
SOURCE_IMAGE_ID: NAPP 9133 213
SOURCE_IMAGE_DATE: 1996 08 08
SOURCE_IMAGE_ID: NAPP 9133 158
SOURCE_IMAGE_DATE: 1996 08 08
SOURCE_IMAGE_ID: NAPP 9133 157
SOURCE_IMAGE_DATE: 1996 08 08
SOURCE_DEM_DATE: 1971 00 00
AGENCY: WESTERN MAPPING CENTER (WMC)
PRODUCER: UNDEFINED
PRODUCTION_SYSTEM: GIS/MAGIC
COMPRESSION: UNDEFINED
STANDARD_VERSION: 1996 12
METADATA_DATE: 1999 06 07
DATA_FILE_SIZE: 44032560
BYTE_COUNT: 5720
