FILENAME: O4510713.SES.1010601.tif
QUADRANGLE_NAME: THE DUGOUT
QUADRANT: SE
WEST_LONGITUDE: -107 26 15.00000
EAST_LONGITUDE: -107 22 30.00000
NORTH_LATITUDE: 45 48 45.00000
SOUTH_LATITUDE: 45 45 0.00000
PRODUCTION_DATE: 1999 5 20
RASTER_ORDER: LEFT_RIGHT/TOP_BOTTOM
BAND_ORGANIZATION: SINGLE FILE
BAND_CONTENT: BLACK&WHITE
BAND_CONTENT: UNDEFINED
BAND_CONTENT: UNDEFINED
BITS_PER_PIXEL: 8
SAMPLES_AND_LINES: 5720 7693
HORIZONTAL_DATUM: NAD83
HORIZONTAL_COORDINATE_SYSTEM: UTM
COORDINATE_ZONE: 13
HORIZONTAL_UNITS: METERS
HORIZONTAL_RESOLUTION: 1.00000
SECONDARY_HORIZONTAL_DATUM: NAD27
XY_ORIGIN: 310061.00000 5076405.00000
SECONDARY_XY_ORIGIN: 310104.18200 5076187.64000
NATION: US
NATION: "SCIENCE
STATE: MT
NW_QUAD_CORNER_XY: 310623.77300 5076104.67800
NE_QUAD_CORNER_XY: 315479.49600 5075958.36400
SE_QUAD_CORNERY_XY: 315273.09500 5069014.60800
SW_QUAD_CORNER_XY: 310411.93400 5069160.93100
SECONDARY_NW_QUAD_XY: 310618.08200 5075886.92300
SECONDARY_NE_QUAD_XY: 315473.95200 5075740.60500
SECONDARY_SE_QUAD_XY: 315267.55200 5068796.89400
SECONDARY_SW_QUAD_XY: 310406.24400 5068943.22100
RMSE_XY: 1.70000
IMAGE_SOURCE: BLACK AND WHITE FILM
SOURCE_IMAGE_ID: NAPP 9133 159
SOURCE_IMAGE_DATE: 1996 08 08
SOURCE_IMAGE_ID: NAPP 9133 210
SOURCE_IMAGE_DATE: 1996 08 08
SOURCE_DEM_DATE: 1971 00 00
AGENCY: WESTERN MAPPING CENTER (WMC)
PRODUCER: UNDEFINED
PRODUCTION_SYSTEM: GIS/MAGIC
COMPRESSION: UNDEFINED
STANDARD_VERSION: 1996 12
METADATA_DATE: 1999 06 07
DATA_FILE_SIZE: 44009680
BYTE_COUNT: 5720
