FILENAME: O4510712.NWS.1008823.tif
QUADRANGLE_NAME: NINEMILE POINT
QUADRANT: NW
WEST_LONGITUDE: -107 37 30.00000
EAST_LONGITUDE: -107 33 45.00000
NORTH_LATITUDE: 45 52 30.00000
SOUTH_LATITUDE: 45 48 45.00000
PRODUCTION_DATE: 1999 4 24
RASTER_ORDER: LEFT_RIGHT/TOP_BOTTOM
BAND_ORGANIZATION: SINGLE FILE
BAND_CONTENT: BLACK&WHITE
BAND_CONTENT: UNDEFINED
BAND_CONTENT: UNDEFINED
BITS_PER_PIXEL: 8
SAMPLES_AND_LINES: 5732 7705
HORIZONTAL_DATUM: NAD83
HORIZONTAL_COORDINATE_SYSTEM: UTM
COORDINATE_ZONE: 13
HORIZONTAL_UNITS: METERS
HORIZONTAL_RESOLUTION: 1.00000
SECONDARY_HORIZONTAL_DATUM: NAD27
XY_ORIGIN: 295705.00000 5083811.00000
SECONDARY_XY_ORIGIN: 295748.49800 5083593.53200
NATION: US
NATION: "SCIENCE
STATE: MT
NW_QUAD_CORNER_XY: 296285.03900 5083510.23100
NE_QUAD_CORNER_XY: 301135.29900 5083352.51200
SE_QUAD_CORNERY_XY: 300912.34400 5076408.72100
SW_QUAD_CORNER_XY: 296056.64000 5076566.45000
SECONDARY_NW_QUAD_XY: 296278.90900 5083292.44700
SECONDARY_NE_QUAD_XY: 301129.31500 5083134.72200
SECONDARY_SE_QUAD_XY: 300906.36200 5076190.97500
SECONDARY_SW_QUAD_XY: 296050.51100 5076348.71000
RMSE_XY: 1.60000
IMAGE_SOURCE: BLACK AND WHITE FILM
SOURCE_IMAGE_ID: NAPP 9135 119
SOURCE_IMAGE_DATE: 1996 08 19
SOURCE_IMAGE_ID: NAPP 9135 158
SOURCE_IMAGE_DATE: 1996 08 19
SOURCE_IMAGE_ID: NAPP 9135 120
SOURCE_IMAGE_DATE: 1996 08 19
SOURCE_IMAGE_ID: NAPP 9139 028
SOURCE_IMAGE_DATE: 1996 08 26
SOURCE_DEM_DATE: 1956 00 00
AGENCY: WESTERN MAPPING CENTER (WMC)
PRODUCER: UNDEFINED
PRODUCTION_SYSTEM: GIS/MAGIC
COMPRESSION: UNDEFINED
STANDARD_VERSION: 1996 12
METADATA_DATE: 1999 06 02
DATA_FILE_SIZE: 44170792
BYTE_COUNT: 5732
