FILENAME: O4510712.SWS.1008825.tif
QUADRANGLE_NAME: NINEMILE POINT
QUADRANT: SW
WEST_LONGITUDE: -107 37 30.00000
EAST_LONGITUDE: -107 33 45.00000
NORTH_LATITUDE: 45 48 45.00000
SOUTH_LATITUDE: 45 45 0.00000
PRODUCTION_DATE: 1999 4 24
RASTER_ORDER: LEFT_RIGHT/TOP_BOTTOM
BAND_ORGANIZATION: SINGLE FILE
BAND_CONTENT: BLACK&WHITE
BAND_CONTENT: UNDEFINED
BAND_CONTENT: UNDEFINED
BITS_PER_PIXEL: 8
SAMPLES_AND_LINES: 5737 7705
HORIZONTAL_DATUM: NAD83
HORIZONTAL_COORDINATE_SYSTEM: UTM
COORDINATE_ZONE: 13
HORIZONTAL_UNITS: METERS
HORIZONTAL_RESOLUTION: 1.00000
SECONDARY_HORIZONTAL_DATUM: NAD27
XY_ORIGIN: 295477.00000 5076867.00000
SECONDARY_XY_ORIGIN: 295520.72700 5076649.79800
NATION: US
NATION: "SCIENCE
STATE: MT
NW_QUAD_CORNER_XY: 296056.64000 5076566.45000
NE_QUAD_CORNER_XY: 300912.34400 5076408.72100
SE_QUAD_CORNERY_XY: 300689.62800 5069464.99100
SW_QUAD_CORNER_XY: 295828.48400 5069622.73000
SECONDARY_NW_QUAD_XY: 296050.51100 5076348.71000
SECONDARY_NE_QUAD_XY: 300906.36200 5076190.97500
SECONDARY_SE_QUAD_XY: 300683.64700 5069247.29000
SECONDARY_SW_QUAD_XY: 295822.35700 5069405.03400
RMSE_XY: 1.40000
IMAGE_SOURCE: BLACK AND WHITE FILM
SOURCE_IMAGE_ID: NAPP 9135 117
SOURCE_IMAGE_DATE: 1996 08 19
SOURCE_DEM_DATE: 1956 00 00
AGENCY: WESTERN MAPPING CENTER (WMC)
PRODUCER: UNDEFINED
PRODUCTION_SYSTEM: GIS/MAGIC
COMPRESSION: UNDEFINED
STANDARD_VERSION: 1996 12
METADATA_DATE: 1999 06 02
DATA_FILE_SIZE: 44209322
BYTE_COUNT: 5737
