FILENAME: O4510711.SES.1006895.tif
QUADRANGLE_NAME: CHIMNEY CREEK
QUADRANT: SE
WEST_LONGITUDE: -107 41 15.00000
EAST_LONGITUDE: -107 37 30.00000
NORTH_LATITUDE: 45 48 45.00000
SOUTH_LATITUDE: 45 45 0.00000
PRODUCTION_DATE: 1999 4 24
RASTER_ORDER: LEFT_RIGHT/TOP_BOTTOM
BAND_ORGANIZATION: SINGLE FILE
BAND_CONTENT: BLACK&WHITE
BAND_CONTENT: UNDEFINED
BAND_CONTENT: UNDEFINED
BITS_PER_PIXEL: 8
SAMPLES_AND_LINES: 5743 7709
HORIZONTAL_DATUM: NAD83
HORIZONTAL_COORDINATE_SYSTEM: UTM
COORDINATE_ZONE: 13
HORIZONTAL_UNITS: METERS
HORIZONTAL_RESOLUTION: 1.00000
SECONDARY_HORIZONTAL_DATUM: NAD27
XY_ORIGIN: 290615.00000 5077028.00000
SECONDARY_XY_ORIGIN: 290658.93100 5076810.86500
NATION: US
NATION: "SCIENCE
STATE: MT
NW_QUAD_CORNER_XY: 291200.94200 5076727.98600
NE_QUAD_CORNER_XY: 296056.64000 5076566.45000
SE_QUAD_CORNERY_XY: 295828.48400 5069622.73000
SW_QUAD_CORNER_XY: 290967.34600 5069784.27500
SECONDARY_NW_QUAD_XY: 291194.66700 5076510.25000
SECONDARY_NE_QUAD_XY: 296050.51100 5076348.71000
SECONDARY_SE_QUAD_XY: 295822.35700 5069405.03400
SECONDARY_SW_QUAD_XY: 290961.07300 5069566.58400
RMSE_XY: 0.90000
IMAGE_SOURCE: BLACK AND WHITE FILM
SOURCE_IMAGE_ID: NAPP 9135 160
SOURCE_IMAGE_DATE: 1996 08 19
SOURCE_IMAGE_ID: NAPP 9135 162
SOURCE_IMAGE_DATE: 1996 08 19
SOURCE_IMAGE_ID: NAPP 9135 158
SOURCE_IMAGE_DATE: 1996 08 19
SOURCE_IMAGE_ID: NAPP 9135 117
SOURCE_IMAGE_DATE: 1996 08 19
SOURCE_DEM_DATE: 1956 00 00
AGENCY: WESTERN MAPPING CENTER (WMC)
PRODUCER: UNDEFINED
PRODUCTION_SYSTEM: GIS/MAGIC
COMPRESSION: UNDEFINED
STANDARD_VERSION: 1996 12
METADATA_DATE: 1999 05 18
DATA_FILE_SIZE: 44278530
BYTE_COUNT: 5743
