FILENAME: O4510711.SWS.1006896.tif
QUADRANGLE_NAME: CHIMNEY CREEK
QUADRANT: SW
WEST_LONGITUDE: -107 45 0.00000
EAST_LONGITUDE: -107 41 15.00000
NORTH_LATITUDE: 45 48 45.00000
SOUTH_LATITUDE: 45 45 0.00000
PRODUCTION_DATE: 1999 4 24
RASTER_ORDER: LEFT_RIGHT/TOP_BOTTOM
BAND_ORGANIZATION: SINGLE FILE
BAND_CONTENT: BLACK&WHITE
BAND_CONTENT: UNDEFINED
BAND_CONTENT: UNDEFINED
BITS_PER_PIXEL: 8
SAMPLES_AND_LINES: 5748 7713
HORIZONTAL_DATUM: NAD83
HORIZONTAL_COORDINATE_SYSTEM: UTM
COORDINATE_ZONE: 13
HORIZONTAL_UNITS: METERS
HORIZONTAL_RESOLUTION: 1.00000
SECONDARY_HORIZONTAL_DATUM: NAD27
XY_ORIGIN: 285754.00000 5077194.00000
SECONDARY_XY_ORIGIN: 285798.13600 5076976.93100
NATION: US
NATION: "SCIENCE
STATE: MT
NW_QUAD_CORNER_XY: 286345.25100 5076893.32800
NE_QUAD_CORNER_XY: 291200.94200 5076727.98600
SE_QUAD_CORNERY_XY: 290967.34600 5069784.27500
SW_QUAD_CORNER_XY: 286106.21500 5069949.62600
SECONDARY_NW_QUAD_XY: 286338.83100 5076675.59700
SECONDARY_NE_QUAD_XY: 291194.66700 5076510.25000
SECONDARY_SE_QUAD_XY: 290961.07300 5069566.58400
SECONDARY_SW_QUAD_XY: 286099.79600 5069731.94000
RMSE_XY: 1.10000
IMAGE_SOURCE: BLACK AND WHITE FILM
SOURCE_IMAGE_ID: NAPP 9139 051
SOURCE_IMAGE_DATE: 1996 08 26
SOURCE_IMAGE_ID: NAPP 9131 292
SOURCE_IMAGE_DATE: 1996 07 29
SOURCE_IMAGE_ID: NAPP 9139 049
SOURCE_IMAGE_DATE: 1996 08 26
SOURCE_IMAGE_ID: NAPP 9135 160
SOURCE_IMAGE_DATE: 1996 08 19
SOURCE_DEM_DATE: 1956 00 00
AGENCY: WESTERN MAPPING CENTER (WMC)
PRODUCER: UNDEFINED
PRODUCTION_SYSTEM: GIS/MAGIC
COMPRESSION: UNDEFINED
STANDARD_VERSION: 1996 12
METADATA_DATE: 1999 05 18
DATA_FILE_SIZE: 44340072
BYTE_COUNT: 5748
