FILENAME: O4510710.NES.1006788.tif
QUADRANGLE_NAME: BLUE SPRING
QUADRANT: NE
WEST_LONGITUDE: -107 48 45.00000
EAST_LONGITUDE: -107 45 0.00000
NORTH_LATITUDE: 45 52 30.00000
SOUTH_LATITUDE: 45 48 45.00000
PRODUCTION_DATE: 1999 4 23
RASTER_ORDER: LEFT_RIGHT/TOP_BOTTOM
BAND_ORGANIZATION: SINGLE FILE
BAND_CONTENT: BLACK&WHITE
BAND_CONTENT: UNDEFINED
BAND_CONTENT: UNDEFINED
BITS_PER_PIXEL: 8
SAMPLES_AND_LINES: 5749 7717
HORIZONTAL_DATUM: NAD83
HORIZONTAL_COORDINATE_SYSTEM: UTM
COORDINATE_ZONE: 13
HORIZONTAL_UNITS: METERS
HORIZONTAL_RESOLUTION: 1.00000
SECONDARY_HORIZONTAL_DATUM: NAD27
XY_ORIGIN: 281137.00000 5084307.00000
SECONDARY_XY_ORIGIN: 281181.21300 5084090.08200
NATION: US
NATION: "SCIENCE
STATE: MT
NW_QUAD_CORNER_XY: 281734.30600 5084006.22600
NE_QUAD_CORNER_XY: 286584.54300 5083837.08800
SE_QUAD_CORNERY_XY: 286345.25100 5076893.32800
SW_QUAD_CORNER_XY: 281489.56700 5077062.47600
SECONDARY_NW_QUAD_XY: 281727.73800 5083788.45600
SECONDARY_NE_QUAD_XY: 286578.12100 5083619.31300
SECONDARY_SE_QUAD_XY: 286338.83100 5076675.59700
SECONDARY_SW_QUAD_XY: 281483.00100 5076844.75000
RMSE_XY: 0.90000
IMAGE_SOURCE: BLACK AND WHITE FILM
SOURCE_IMAGE_ID: NAPP 9131 290
SOURCE_IMAGE_DATE: 1996 07 29
SOURCE_IMAGE_ID: NAPP 9131 292
SOURCE_IMAGE_DATE: 1996 07 29
SOURCE_IMAGE_ID: NAPP 9131 291
SOURCE_IMAGE_DATE: 1996 07 29
SOURCE_IMAGE_ID: NAPP 9131 288
SOURCE_IMAGE_DATE: 1996 07 29
SOURCE_IMAGE_ID: NAPP 9139 049
SOURCE_IMAGE_DATE: 1996 08 26
SOURCE_DEM_DATE: 1968 00 00
AGENCY: WESTERN MAPPING CENTER (WMC)
PRODUCER: UNDEFINED
PRODUCTION_SYSTEM: GIS/MAGIC
COMPRESSION: UNDEFINED
STANDARD_VERSION: 1996 12
METADATA_DATE: 1999 05 18
DATA_FILE_SIZE: 44370782
BYTE_COUNT: 5749
