FILENAME: O4510710.SES.1006790.tif
QUADRANGLE_NAME: BLUE SPRING
QUADRANT: SE
WEST_LONGITUDE: -107 48 45.00000
EAST_LONGITUDE: -107 45 0.00000
NORTH_LATITUDE: 45 48 45.00000
SOUTH_LATITUDE: 45 45 0.00000
PRODUCTION_DATE: 1999 4 23
RASTER_ORDER: LEFT_RIGHT/TOP_BOTTOM
BAND_ORGANIZATION: SINGLE FILE
BAND_CONTENT: BLACK&WHITE
BAND_CONTENT: UNDEFINED
BAND_CONTENT: UNDEFINED
BITS_PER_PIXEL: 8
SAMPLES_AND_LINES: 5755 7717
HORIZONTAL_DATUM: NAD83
HORIZONTAL_COORDINATE_SYSTEM: UTM
COORDINATE_ZONE: 13
HORIZONTAL_UNITS: METERS
HORIZONTAL_RESOLUTION: 1.00000
SECONDARY_HORIZONTAL_DATUM: NAD27
XY_ORIGIN: 280892.00000 5077363.00000
SECONDARY_XY_ORIGIN: 280936.45100 5077146.38600
NATION: US
NATION: "SCIENCE
STATE: MT
NW_QUAD_CORNER_XY: 281489.56700 5077062.47600
NE_QUAD_CORNER_XY: 286345.25100 5076893.32800
SE_QUAD_CORNERY_XY: 286106.21500 5069949.62600
SW_QUAD_CORNER_XY: 281245.09000 5070118.78400
SECONDARY_NW_QUAD_XY: 281483.00100 5076844.75000
SECONDARY_NE_QUAD_XY: 286338.83100 5076675.59700
SECONDARY_SE_QUAD_XY: 286099.79600 5069731.94000
SECONDARY_SW_QUAD_XY: 281238.52600 5069901.10300
RMSE_XY: 1.00000
IMAGE_SOURCE: BLACK AND WHITE FILM
SOURCE_IMAGE_ID: NAPP 9131 292
SOURCE_IMAGE_DATE: 1996 07 29
SOURCE_IMAGE_ID: NAPP 9132 016
SOURCE_IMAGE_DATE: 1996 07 29
SOURCE_IMAGE_ID: NAPP 9131 290
SOURCE_IMAGE_DATE: 1996 07 29
SOURCE_IMAGE_ID: NAPP 9139 051
SOURCE_IMAGE_DATE: 1996 08 26
SOURCE_DEM_DATE: 1968 00 00
AGENCY: WESTERN MAPPING CENTER (WMC)
PRODUCER: UNDEFINED
PRODUCTION_SYSTEM: GIS/MAGIC
COMPRESSION: UNDEFINED
STANDARD_VERSION: 1996 12
METADATA_DATE: 1999 05 18
DATA_FILE_SIZE: 44417090
BYTE_COUNT: 5755
