FILENAME: O4510708.NES.1010675.tif
QUADRANGLE_NAME: MINNEHAHA CREEK SOUTH
QUADRANT: NE
WEST_LONGITUDE: -107 3 45.00000
EAST_LONGITUDE: -107 0 0.00000
NORTH_LATITUDE: 46 0 0.00000
SOUTH_LATITUDE: 45 56 15.00000
PRODUCTION_DATE: 1999 6 1
RASTER_ORDER: LEFT_RIGHT/TOP_BOTTOM
BAND_ORGANIZATION: SINGLE FILE
BAND_CONTENT: BLACK&WHITE
BAND_CONTENT: UNDEFINED
BAND_CONTENT: UNDEFINED
BITS_PER_PIXEL: 8
SAMPLES_AND_LINES: 5669 7670
HORIZONTAL_DATUM: NAD83
HORIZONTAL_COORDINATE_SYSTEM: UTM
COORDINATE_ZONE: 13
HORIZONTAL_UNITS: METERS
HORIZONTAL_RESOLUTION: 1.00000
SECONDARY_HORIZONTAL_DATUM: NAD27
XY_ORIGIN: 339769.00000 5096416.00000
SECONDARY_XY_ORIGIN: 339811.10600 5096198.06000
NATION: US
NATION: "SCIENCE
STATE: MT
NW_QUAD_CORNER_XY: 340297.00900 5096115.63800
NE_QUAD_CORNER_XY: 345136.42700 5095992.17100
SE_QUAD_CORNERY_XY: 344962.08600 5089048.16800
SW_QUAD_CORNER_XY: 340117.21600 5089171.64400
SECONDARY_NW_QUAD_XY: 340292.19100 5095897.72900
SECONDARY_NE_QUAD_XY: 345131.75400 5095774.25800
SECONDARY_SE_QUAD_XY: 344957.41400 5088830.29700
SECONDARY_SW_QUAD_XY: 340112.39900 5088953.77700
RMSE_XY: 1.00000
IMAGE_SOURCE: BLACK AND WHITE FILM
SOURCE_IMAGE_ID: NAPP 9099 133
SOURCE_IMAGE_DATE: 1996 07 14
SOURCE_IMAGE_ID: NAPP 9099 046
SOURCE_IMAGE_DATE: 1996 07 14
SOURCE_DEM_DATE: 1971 00 00
AGENCY: WESTERN MAPPING CENTER (WMC)
PRODUCER: UNDEFINED
PRODUCTION_SYSTEM: GIS/MAGIC
COMPRESSION: UNDEFINED
STANDARD_VERSION: 1996 12
METADATA_DATE: 1999 06 09
DATA_FILE_SIZE: 43486899
BYTE_COUNT: 5669
