FILENAME: O4510708.SES.1010677.tif
QUADRANGLE_NAME: MINNEHAHA CREEK SOUTH
QUADRANT: SE
WEST_LONGITUDE: -107 3 45.00000
EAST_LONGITUDE: -107 0 0.00000
NORTH_LATITUDE: 45 56 15.00000
SOUTH_LATITUDE: 45 52 30.00000
PRODUCTION_DATE: 1999 6 2
RASTER_ORDER: LEFT_RIGHT/TOP_BOTTOM
BAND_ORGANIZATION: SINGLE FILE
BAND_CONTENT: BLACK&WHITE
BAND_CONTENT: UNDEFINED
BAND_CONTENT: UNDEFINED
BITS_PER_PIXEL: 8
SAMPLES_AND_LINES: 5675 7670
HORIZONTAL_DATUM: NAD83
HORIZONTAL_COORDINATE_SYSTEM: UTM
COORDINATE_ZONE: 13
HORIZONTAL_UNITS: METERS
HORIZONTAL_RESOLUTION: 1.00000
SECONDARY_HORIZONTAL_DATUM: NAD27
XY_ORIGIN: 339589.00000 5089472.00000
SECONDARY_XY_ORIGIN: 339631.11200 5089254.18400
NATION: US
NATION: "SCIENCE
STATE: MT
NW_QUAD_CORNER_XY: 340117.21600 5089171.64400
NE_QUAD_CORNER_XY: 344962.08600 5089048.16800
SE_QUAD_CORNERY_XY: 344787.93000 5082104.23200
SW_QUAD_CORNER_XY: 339937.61300 5082227.71600
SECONDARY_NW_QUAD_XY: 340112.39900 5088953.77700
SECONDARY_NE_QUAD_XY: 344957.41400 5088830.29700
SECONDARY_SE_QUAD_XY: 344783.26000 5081886.40500
SECONDARY_SW_QUAD_XY: 339932.79700 5082009.89300
RMSE_XY: 1.40000
IMAGE_SOURCE: BLACK AND WHITE FILM
SOURCE_IMAGE_ID: NAPP 9099 135
SOURCE_IMAGE_DATE: 1996 07 14
SOURCE_IMAGE_ID: NAPP 9099 136
SOURCE_IMAGE_DATE: 1996 07 14
SOURCE_DEM_DATE: 1971 00 00
AGENCY: WESTERN MAPPING CENTER (WMC)
PRODUCER: UNDEFINED
PRODUCTION_SYSTEM: GIS/MAGIC
COMPRESSION: UNDEFINED
STANDARD_VERSION: 1996 12
METADATA_DATE: 1999 06 09
DATA_FILE_SIZE: 43532925
BYTE_COUNT: 5675
