FILENAME: O4510708.SWS.1010678.tif
QUADRANGLE_NAME: MINNEHAHA CREEK SOUTH
QUADRANT: SW
WEST_LONGITUDE: -107 7 30.00000
EAST_LONGITUDE: -107 3 45.00000
NORTH_LATITUDE: 45 56 15.00000
SOUTH_LATITUDE: 45 52 30.00000
PRODUCTION_DATE: 1999 6 2
RASTER_ORDER: LEFT_RIGHT/TOP_BOTTOM
BAND_ORGANIZATION: SINGLE FILE
BAND_CONTENT: BLACK&WHITE
BAND_CONTENT: UNDEFINED
BAND_CONTENT: UNDEFINED
BITS_PER_PIXEL: 8
SAMPLES_AND_LINES: 5680 7674
HORIZONTAL_DATUM: NAD83
HORIZONTAL_COORDINATE_SYSTEM: UTM
COORDINATE_ZONE: 13
HORIZONTAL_UNITS: METERS
HORIZONTAL_RESOLUTION: 1.00000
SECONDARY_HORIZONTAL_DATUM: NAD27
XY_ORIGIN: 334739.00000 5089599.00000
SECONDARY_XY_ORIGIN: 334781.27200 5089381.18700
NATION: US
NATION: "SCIENCE
STATE: MT
NW_QUAD_CORNER_XY: 335272.35200 5089298.92200
NE_QUAD_CORNER_XY: 340117.21600 5089171.64400
SE_QUAD_CORNERY_XY: 339937.61300 5082227.71600
SW_QUAD_CORNER_XY: 335087.30200 5082355.00300
SECONDARY_NW_QUAD_XY: 335267.38900 5089081.05900
SECONDARY_NE_QUAD_XY: 340112.39900 5088953.77700
SECONDARY_SE_QUAD_XY: 339932.79700 5082009.89300
SECONDARY_SW_QUAD_XY: 335082.34000 5082137.18300
RMSE_XY: 1.10000
IMAGE_SOURCE: BLACK AND WHITE FILM
SOURCE_IMAGE_ID: NAPP 9099 197
SOURCE_IMAGE_DATE: 1996 07 14
SOURCE_IMAGE_ID: NAPP 9100 049
SOURCE_IMAGE_DATE: 1996 07 14
SOURCE_IMAGE_ID: NAPP 9099 196
SOURCE_IMAGE_DATE: 1996 07 14
SOURCE_IMAGE_ID: NAPP 9099 135
SOURCE_IMAGE_DATE: 1996 07 14
SOURCE_DEM_DATE: 1971 00 00
AGENCY: WESTERN MAPPING CENTER (WMC)
PRODUCER: UNDEFINED
PRODUCTION_SYSTEM: GIS/MAGIC
COMPRESSION: UNDEFINED
STANDARD_VERSION: 1996 12
METADATA_DATE: 1999 06 09
DATA_FILE_SIZE: 43594000
BYTE_COUNT: 5680
