FILENAME: O4510707.NWS.1010664.tif
QUADRANGLE_NAME: IRON SPRING
QUADRANT: NW
WEST_LONGITUDE: -107 15 0.00000
EAST_LONGITUDE: -107 11 15.00000
NORTH_LATITUDE: 46 0 0.00000
SOUTH_LATITUDE: 45 56 15.00000
PRODUCTION_DATE: 1999 6 1
RASTER_ORDER: LEFT_RIGHT/TOP_BOTTOM
BAND_ORGANIZATION: SINGLE FILE
BAND_CONTENT: BLACK&WHITE
BAND_CONTENT: UNDEFINED
BAND_CONTENT: UNDEFINED
BITS_PER_PIXEL: 8
SAMPLES_AND_LINES: 5687 7682
HORIZONTAL_DATUM: NAD83
HORIZONTAL_COORDINATE_SYSTEM: UTM
COORDINATE_ZONE: 13
HORIZONTAL_UNITS: METERS
HORIZONTAL_RESOLUTION: 1.00000
SECONDARY_HORIZONTAL_DATUM: NAD27
XY_ORIGIN: 325233.00000 5096809.00000
SECONDARY_XY_ORIGIN: 325275.50400 5096590.98700
NATION: US
NATION: "SCIENCE
STATE: MT
NW_QUAD_CORNER_XY: 325778.79700 5096508.85300
NE_QUAD_CORNER_XY: 330618.19400 5096373.97800
SE_QUAD_CORNERY_XY: 330427.49400 5089430.00300
SW_QUAD_CORNER_XY: 325582.64300 5089564.88700
SECONDARY_NW_QUAD_XY: 325773.54100 5096290.95600
SECONDARY_NE_QUAD_XY: 330613.08400 5096156.07700
SECONDARY_SE_QUAD_XY: 330422.38500 5089212.14400
SECONDARY_SW_QUAD_XY: 325577.38800 5089347.03200
RMSE_XY: 1.00000
IMAGE_SOURCE: BLACK AND WHITE FILM
SOURCE_IMAGE_ID: NAPP 9098 044
SOURCE_IMAGE_DATE: 1996 07 14
SOURCE_IMAGE_ID: NAPP 9098 042
SOURCE_IMAGE_DATE: 1996 07 14
SOURCE_IMAGE_ID: NAPP 9100 046
SOURCE_IMAGE_DATE: 1996 07 14
SOURCE_DEM_DATE: 1971 00 00
AGENCY: WESTERN MAPPING CENTER (WMC)
PRODUCER: UNDEFINED
PRODUCTION_SYSTEM: GIS/MAGIC
COMPRESSION: UNDEFINED
STANDARD_VERSION: 1996 12
METADATA_DATE: 1999 06 09
DATA_FILE_SIZE: 43693221
BYTE_COUNT: 5687
