FILENAME: O4510707.SES.1010665.tif
QUADRANGLE_NAME: IRON SPRING
QUADRANT: SE
WEST_LONGITUDE: -107 11 15.00000
EAST_LONGITUDE: -107 7 30.00000
NORTH_LATITUDE: 45 56 15.00000
SOUTH_LATITUDE: 45 52 30.00000
PRODUCTION_DATE: 1999 6 1
RASTER_ORDER: LEFT_RIGHT/TOP_BOTTOM
BAND_ORGANIZATION: SINGLE FILE
BAND_CONTENT: BLACK&WHITE
BAND_CONTENT: UNDEFINED
BAND_CONTENT: UNDEFINED
BITS_PER_PIXEL: 8
SAMPLES_AND_LINES: 5686 7679
HORIZONTAL_DATUM: NAD83
HORIZONTAL_COORDINATE_SYSTEM: UTM
COORDINATE_ZONE: 13
HORIZONTAL_UNITS: METERS
HORIZONTAL_RESOLUTION: 1.00000
SECONDARY_HORIZONTAL_DATUM: NAD27
XY_ORIGIN: 329888.00000 5089731.00000
SECONDARY_XY_ORIGIN: 329930.43200 5089513.18800
NATION: US
NATION: "SCIENCE
STATE: MT
NW_QUAD_CORNER_XY: 330427.49400 5089430.00300
NE_QUAD_CORNER_XY: 335272.35200 5089298.92200
SE_QUAD_CORNERY_XY: 335087.30200 5082355.00300
SW_QUAD_CORNER_XY: 330236.99700 5082486.09300
SECONDARY_NW_QUAD_XY: 330422.38500 5089212.14400
SECONDARY_NE_QUAD_XY: 335267.38900 5089081.05900
SECONDARY_SE_QUAD_XY: 335082.34000 5082137.18300
SECONDARY_SW_QUAD_XY: 330231.88900 5082268.27700
RMSE_XY: 1.00000
IMAGE_SOURCE: BLACK AND WHITE FILM
SOURCE_IMAGE_ID: NAPP 9100 048
SOURCE_IMAGE_DATE: 1996 07 14
SOURCE_IMAGE_ID: NAPP 9100 049
SOURCE_IMAGE_DATE: 1996 07 14
SOURCE_IMAGE_ID: NAPP 9100 047
SOURCE_IMAGE_DATE: 1996 07 14
SOURCE_DEM_DATE: 1971 00 00
AGENCY: WESTERN MAPPING CENTER (WMC)
PRODUCER: UNDEFINED
PRODUCTION_SYSTEM: GIS/MAGIC
COMPRESSION: UNDEFINED
STANDARD_VERSION: 1996 12
METADATA_DATE: 1999 06 09
DATA_FILE_SIZE: 43668480
BYTE_COUNT: 5686
