FILENAME: O4510706.NES.1010659.tif
QUADRANGLE_NAME: HAMMOND RANCH
QUADRANT: NE
WEST_LONGITUDE: -107 18 45.00000
EAST_LONGITUDE: -107 15 0.00000
NORTH_LATITUDE: 46 0 0.00000
SOUTH_LATITUDE: 45 56 15.00000
PRODUCTION_DATE: 1999 6 1
RASTER_ORDER: LEFT_RIGHT/TOP_BOTTOM
BAND_ORGANIZATION: SINGLE FILE
BAND_CONTENT: BLACK&WHITE
BAND_CONTENT: UNDEFINED
BAND_CONTENT: UNDEFINED
BITS_PER_PIXEL: 8
SAMPLES_AND_LINES: 5692 7686
HORIZONTAL_DATUM: NAD83
HORIZONTAL_COORDINATE_SYSTEM: UTM
COORDINATE_ZONE: 13
HORIZONTAL_UNITS: METERS
HORIZONTAL_RESOLUTION: 1.00000
SECONDARY_HORIZONTAL_DATUM: NAD27
XY_ORIGIN: 320388.00000 5096948.00000
SECONDARY_XY_ORIGIN: 320430.53500 5096729.97400
NATION: US
NATION: "SCIENCE
STATE: MT
NW_QUAD_CORNER_XY: 320939.40700 5096647.53000
NE_QUAD_CORNER_XY: 325778.79700 5096508.85300
SE_QUAD_CORNERY_XY: 325582.64300 5089564.88700
SW_QUAD_CORNER_XY: 320737.79900 5089703.57400
SECONDARY_NW_QUAD_XY: 320934.00500 5096429.63700
SECONDARY_NE_QUAD_XY: 325773.54100 5096290.95600
SECONDARY_SE_QUAD_XY: 325577.38800 5089347.03200
SECONDARY_SW_QUAD_XY: 320732.39800 5089485.72400
RMSE_XY: 1.30000
IMAGE_SOURCE: BLACK AND WHITE FILM
SOURCE_IMAGE_ID: NAPP 9126 038
SOURCE_IMAGE_DATE: 1996 07 14
SOURCE_IMAGE_ID: NAPP 9126 039
SOURCE_IMAGE_DATE: 1996 07 14
SOURCE_IMAGE_ID: NAPP 9126 037
SOURCE_IMAGE_DATE: 1996 07 14
SOURCE_DEM_DATE: 1971 00 00
AGENCY: WESTERN MAPPING CENTER (WMC)
PRODUCER: UNDEFINED
PRODUCTION_SYSTEM: GIS/MAGIC
COMPRESSION: UNDEFINED
STANDARD_VERSION: 1996 12
METADATA_DATE: 1999 06 09
DATA_FILE_SIZE: 43754404
BYTE_COUNT: 5692
