FILENAME: O4510706.SES.1010661.tif
QUADRANGLE_NAME: HAMMOND RANCH
QUADRANT: SE
WEST_LONGITUDE: -107 18 45.00000
EAST_LONGITUDE: -107 15 0.00000
NORTH_LATITUDE: 45 56 15.00000
SOUTH_LATITUDE: 45 52 30.00000
PRODUCTION_DATE: 1999 6 1
RASTER_ORDER: LEFT_RIGHT/TOP_BOTTOM
BAND_ORGANIZATION: SINGLE FILE
BAND_CONTENT: BLACK&WHITE
BAND_CONTENT: UNDEFINED
BAND_CONTENT: UNDEFINED
BITS_PER_PIXEL: 8
SAMPLES_AND_LINES: 5697 7686
HORIZONTAL_DATUM: NAD83
HORIZONTAL_COORDINATE_SYSTEM: UTM
COORDINATE_ZONE: 13
HORIZONTAL_UNITS: METERS
HORIZONTAL_RESOLUTION: 1.00000
SECONDARY_HORIZONTAL_DATUM: NAD27
XY_ORIGIN: 320187.00000 5090004.00000
SECONDARY_XY_ORIGIN: 320229.65800 5089786.18400
NATION: US
NATION: "SCIENCE
STATE: MT
NW_QUAD_CORNER_XY: 320737.79900 5089703.57400
NE_QUAD_CORNER_XY: 325582.64300 5089564.88700
SE_QUAD_CORNERY_XY: 325386.69800 5082620.98600
SW_QUAD_CORNER_XY: 320536.40500 5082759.68200
SECONDARY_NW_QUAD_XY: 320732.39800 5089485.72400
SECONDARY_NE_QUAD_XY: 325577.38800 5089347.03200
SECONDARY_SE_QUAD_XY: 325381.44400 5082403.17400
SECONDARY_SW_QUAD_XY: 320531.00500 5082541.87500
RMSE_XY: 1.40000
IMAGE_SOURCE: BLACK AND WHITE FILM
SOURCE_IMAGE_ID: NAPP 9126 040
SOURCE_IMAGE_DATE: 1996 07 14
SOURCE_DEM_DATE: 1971 00 00
AGENCY: WESTERN MAPPING CENTER (WMC)
PRODUCER: UNDEFINED
PRODUCTION_SYSTEM: GIS/MAGIC
COMPRESSION: UNDEFINED
STANDARD_VERSION: 1996 12
METADATA_DATE: 1999 06 09
DATA_FILE_SIZE: 43792839
BYTE_COUNT: 5697
