FILENAME: O4510705.SES.1010649.tif
QUADRANGLE_NAME: DUDLEY SPRING
QUADRANT: SE
WEST_LONGITUDE: -107 26 15.00000
EAST_LONGITUDE: -107 22 30.00000
NORTH_LATITUDE: 45 56 15.00000
SOUTH_LATITUDE: 45 52 30.00000
PRODUCTION_DATE: 1999 6 4
RASTER_ORDER: LEFT_RIGHT/TOP_BOTTOM
BAND_ORGANIZATION: SINGLE FILE
BAND_CONTENT: BLACK&WHITE
BAND_CONTENT: UNDEFINED
BAND_CONTENT: UNDEFINED
BITS_PER_PIXEL: 8
SAMPLES_AND_LINES: 5708 7694
HORIZONTAL_DATUM: NAD83
HORIZONTAL_COORDINATE_SYSTEM: UTM
COORDINATE_ZONE: 13
HORIZONTAL_UNITS: METERS
HORIZONTAL_RESOLUTION: 1.00000
SECONDARY_HORIZONTAL_DATUM: NAD27
XY_ORIGIN: 310486.00000 5090293.00000
SECONDARY_XY_ORIGIN: 310528.80400 5090075.18400
NATION: US
NATION: "SCIENCE
STATE: MT
NW_QUAD_CORNER_XY: 311048.13000 5089992.36000
NE_QUAD_CORNER_XY: 315892.96100 5089846.06500
SE_QUAD_CORNERY_XY: 315686.11800 5082902.18300
SW_QUAD_CORNER_XY: 310835.83800 5083048.48800
SECONDARY_NW_QUAD_XY: 311042.43700 5089774.51800
SECONDARY_NE_QUAD_XY: 315887.41400 5089628.21900
SECONDARY_SE_QUAD_XY: 315680.57300 5082684.38000
SECONDARY_SW_QUAD_XY: 310830.14600 5082830.68900
RMSE_XY: 1.50000
IMAGE_SOURCE: BLACK AND WHITE FILM
SOURCE_IMAGE_ID: NAPP 9133 155
SOURCE_IMAGE_DATE: 1996 08 08
SOURCE_IMAGE_ID: NAPP 9133 156
SOURCE_IMAGE_DATE: 1996 08 08
SOURCE_IMAGE_ID: NAPP 9133 154
SOURCE_IMAGE_DATE: 1996 08 08
SOURCE_DEM_DATE: 1971 00 00
AGENCY: WESTERN MAPPING CENTER (WMC)
PRODUCER: UNDEFINED
PRODUCTION_SYSTEM: GIS/MAGIC
COMPRESSION: UNDEFINED
STANDARD_VERSION: 1996 12
METADATA_DATE: 1999 06 09
DATA_FILE_SIZE: 43923060
BYTE_COUNT: 5708
