FILENAME: O4510703.SES.1006888.tif
QUADRANGLE_NAME: LEMON RANCH
QUADRANT: SE
WEST_LONGITUDE: -107 41 15.00000
EAST_LONGITUDE: -107 37 30.00000
NORTH_LATITUDE: 45 56 15.00000
SOUTH_LATITUDE: 45 52 30.00000
PRODUCTION_DATE: 1999 5 3
RASTER_ORDER: LEFT_RIGHT/TOP_BOTTOM
BAND_ORGANIZATION: SINGLE FILE
BAND_CONTENT: BLACK&WHITE
BAND_CONTENT: UNDEFINED
BAND_CONTENT: UNDEFINED
BITS_PER_PIXEL: 8
SAMPLES_AND_LINES: 5732 7709
HORIZONTAL_DATUM: NAD83
HORIZONTAL_COORDINATE_SYSTEM: UTM
COORDINATE_ZONE: 13
HORIZONTAL_UNITS: METERS
HORIZONTAL_RESOLUTION: 1.00000
SECONDARY_HORIZONTAL_DATUM: NAD27
XY_ORIGIN: 291083.00000 5090916.00000
SECONDARY_XY_ORIGIN: 291126.46400 5090698.30300
NATION: US
NATION: "SCIENCE
STATE: MT
NW_QUAD_CORNER_XY: 291668.88200 5090615.58700
NE_QUAD_CORNER_XY: 296513.68300 5090454.07300
SE_QUAD_CORNERY_XY: 296285.03900 5083510.23100
SW_QUAD_CORNER_XY: 291434.78700 5083671.75700
SECONDARY_NW_QUAD_XY: 291662.60500 5090397.76400
SECONDARY_NE_QUAD_XY: 296507.55100 5090236.24500
SECONDARY_SE_QUAD_XY: 296278.90900 5083292.44700
SECONDARY_SW_QUAD_XY: 291428.51100 5083453.97700
RMSE_XY: 1.30000
IMAGE_SOURCE: BLACK AND WHITE FILM
SOURCE_IMAGE_ID: NAPP 9135 156
SOURCE_IMAGE_DATE: 1996 08 19
SOURCE_IMAGE_ID: NAPP 9135 158
SOURCE_IMAGE_DATE: 1996 08 19
SOURCE_IMAGE_ID: NAPP 9139 029
SOURCE_IMAGE_DATE: 1996 08 26
SOURCE_DEM_DATE: 1956 00 00
AGENCY: WESTERN MAPPING CENTER (WMC)
PRODUCER: UNDEFINED
PRODUCTION_SYSTEM: GIS/MAGIC
COMPRESSION: UNDEFINED
STANDARD_VERSION: 1996 12
METADATA_DATE: 1999 05 18
DATA_FILE_SIZE: 44193720
BYTE_COUNT: 5732
