FILENAME: O4510703.SWS.1006890.tif
QUADRANGLE_NAME: LEMON RANCH
QUADRANT: SW
WEST_LONGITUDE: -107 45 0.00000
EAST_LONGITUDE: -107 41 15.00000
NORTH_LATITUDE: 45 56 15.00000
SOUTH_LATITUDE: 45 52 30.00000
PRODUCTION_DATE: 1999 5 3
RASTER_ORDER: LEFT_RIGHT/TOP_BOTTOM
BAND_ORGANIZATION: SINGLE FILE
BAND_CONTENT: BLACK&WHITE
BAND_CONTENT: UNDEFINED
BAND_CONTENT: UNDEFINED
BITS_PER_PIXEL: 8
SAMPLES_AND_LINES: 5737 7712
HORIZONTAL_DATUM: NAD83
HORIZONTAL_COORDINATE_SYSTEM: UTM
COORDINATE_ZONE: 13
HORIZONTAL_UNITS: METERS
HORIZONTAL_RESOLUTION: 1.00000
SECONDARY_HORIZONTAL_DATUM: NAD27
XY_ORIGIN: 286233.00000 5091081.00000
SECONDARY_XY_ORIGIN: 286276.65900 5090863.34000
NATION: US
NATION: "SCIENCE
STATE: MT
NW_QUAD_CORNER_XY: 286824.08900 5090780.90700
NE_QUAD_CORNER_XY: 291668.88200 5090615.58700
SE_QUAD_CORNERY_XY: 291434.78700 5083671.75700
SW_QUAD_CORNER_XY: 286584.54300 5083837.08800
SECONDARY_NW_QUAD_XY: 286817.66600 5090563.08900
SECONDARY_NE_QUAD_XY: 291662.60500 5090397.76400
SECONDARY_SE_QUAD_XY: 291428.51100 5083453.97700
SECONDARY_SW_QUAD_XY: 286578.12100 5083619.31300
RMSE_XY: 1.80000
IMAGE_SOURCE: BLACK AND WHITE FILM
SOURCE_IMAGE_ID: NAPP 9139 047
SOURCE_IMAGE_DATE: 1996 08 26
SOURCE_IMAGE_ID: NAPP 9131 288
SOURCE_IMAGE_DATE: 1996 07 29
SOURCE_IMAGE_ID: NAPP 9139 049
SOURCE_IMAGE_DATE: 1996 08 26
SOURCE_IMAGE_ID: NAPP 9135 156
SOURCE_IMAGE_DATE: 1996 08 19
SOURCE_DEM_DATE: 1956 00 00
AGENCY: WESTERN MAPPING CENTER (WMC)
PRODUCER: UNDEFINED
PRODUCTION_SYSTEM: GIS/MAGIC
COMPRESSION: UNDEFINED
STANDARD_VERSION: 1996 12
METADATA_DATE: 1999 05 18
DATA_FILE_SIZE: 44249481
BYTE_COUNT: 5737
