FILENAME: O4510702.NWS.1006785.tif
QUADRANGLE_NAME: WAGON BOX SPRING
QUADRANT: NW
WEST_LONGITUDE: -107 52 30.00000
EAST_LONGITUDE: -107 48 45.00000
NORTH_LATITUDE: 46 0 0.00000
SOUTH_LATITUDE: 45 56 15.00000
PRODUCTION_DATE: 1999 4 28
RASTER_ORDER: LEFT_RIGHT/TOP_BOTTOM
BAND_ORGANIZATION: SINGLE FILE
BAND_CONTENT: BLACK&WHITE
BAND_CONTENT: UNDEFINED
BAND_CONTENT: UNDEFINED
BITS_PER_PIXEL: 8
SAMPLES_AND_LINES: 5744 7720
HORIZONTAL_DATUM: NAD83
HORIZONTAL_COORDINATE_SYSTEM: UTM
COORDINATE_ZONE: 13
HORIZONTAL_UNITS: METERS
HORIZONTAL_RESOLUTION: 1.00000
SECONDARY_HORIZONTAL_DATUM: NAD27
XY_ORIGIN: 276782.00000 5098367.00000
SECONDARY_XY_ORIGIN: 276826.04300 5098149.86700
NATION: US
NATION: "SCIENCE
STATE: MT
NW_QUAD_CORNER_XY: 277385.24800 5098066.81900
NE_QUAD_CORNER_XY: 282224.56500 5097893.89900
SE_QUAD_CORNERY_XY: 281979.30500 5090950.03300
SW_QUAD_CORNER_XY: 277134.52900 5091122.96600
SECONDARY_NW_QUAD_XY: 277378.53100 5097848.96900
SECONDARY_NE_QUAD_XY: 282217.99400 5097676.04400
SECONDARY_SE_QUAD_XY: 281972.73500 5090732.22000
SECONDARY_SW_QUAD_XY: 277127.81300 5090905.15800
RMSE_XY: 1.50000
IMAGE_SOURCE: BLACK AND WHITE FILM
SOURCE_IMAGE_ID: NAPP 9132 022
SOURCE_IMAGE_DATE: 1996 07 29
SOURCE_IMAGE_ID: NAPP 9132 021
SOURCE_IMAGE_DATE: 1996 07 29
SOURCE_IMAGE_ID: NAPP 9132 023
SOURCE_IMAGE_DATE: 1996 07 29
SOURCE_IMAGE_ID: NAPP 9132 024
SOURCE_IMAGE_DATE: 1996 07 29
SOURCE_DEM_DATE: 1966 00 00
AGENCY: WESTERN MAPPING CENTER (WMC)
PRODUCER: UNDEFINED
PRODUCTION_SYSTEM: GIS/MAGIC
COMPRESSION: UNDEFINED
STANDARD_VERSION: 1996 12
METADATA_DATE: 1999 05 18
DATA_FILE_SIZE: 44349424
BYTE_COUNT: 5744
