FILENAME: O4510701.SES.1006577.tif
QUADRANGLE_NAME: POMPEYS PILLAR
QUADRANT: SE
WEST_LONGITUDE: -107 56 15.00000
EAST_LONGITUDE: -107 52 30.00000
NORTH_LATITUDE: 45 56 15.00000
SOUTH_LATITUDE: 45 52 30.00000
PRODUCTION_DATE: 1999 5 3
RASTER_ORDER: LEFT_RIGHT/TOP_BOTTOM
BAND_ORGANIZATION: SINGLE FILE
BAND_CONTENT: BLACK&WHITE
BAND_CONTENT: UNDEFINED
BAND_CONTENT: UNDEFINED
BITS_PER_PIXEL: 8
SAMPLES_AND_LINES: 5755 7725
HORIZONTAL_DATUM: NAD83
HORIZONTAL_COORDINATE_SYSTEM: UTM
COORDINATE_ZONE: 13
HORIZONTAL_UNITS: METERS
HORIZONTAL_RESOLUTION: 1.00000
SECONDARY_HORIZONTAL_DATUM: NAD27
XY_ORIGIN: 271681.00000 5091600.00000
SECONDARY_XY_ORIGIN: 271725.58600 5091383.57600
NATION: US
NATION: "SCIENCE
STATE: MT
NW_QUAD_CORNER_XY: 272289.76200 5091299.70600
NE_QUAD_CORNER_XY: 277134.52900 5091122.96600
SE_QUAD_CORNERY_XY: 276884.07600 5084179.17000
SW_QUAD_CORNER_XY: 272033.85500 5084355.92200
SECONDARY_NW_QUAD_XY: 272282.90000 5091081.90300
SECONDARY_NE_QUAD_XY: 277127.81300 5090905.15800
SECONDARY_SE_QUAD_XY: 276877.36300 5083961.40500
SECONDARY_SW_QUAD_XY: 272026.99500 5084138.16200
RMSE_XY: 2.20000
IMAGE_SOURCE: BLACK AND WHITE FILM
SOURCE_IMAGE_ID: NAPP 9132 021
SOURCE_IMAGE_DATE: 1996 07 29
SOURCE_IMAGE_ID: NAPP 9151 022
SOURCE_IMAGE_DATE: 1996 09 11
SOURCE_IMAGE_ID: NAPP 9151 021
SOURCE_IMAGE_DATE: 1996 09 11
SOURCE_IMAGE_ID: NAPP 9151 020
SOURCE_IMAGE_DATE: 1996 09 11
SOURCE_IMAGE_ID: NAPP 9132 019
SOURCE_IMAGE_DATE: 1996 07 29
SOURCE_DEM_DATE: 1980 00 00
AGENCY: WESTERN MAPPING CENTER (WMC)
PRODUCER: UNDEFINED
PRODUCTION_SYSTEM: GIS/MAGIC
COMPRESSION: UNDEFINED
STANDARD_VERSION: 1996 12
METADATA_DATE: 1999 05 18
DATA_FILE_SIZE: 44463130
BYTE_COUNT: 5755
