FILENAME: O4510864.NES.1050866.tif
QUADRANGLE_NAME: Two Point
QUADRANT: NE
WEST_LONGITUDE: -108 3 45.00000
EAST_LONGITUDE: -108 0 0.00000
NORTH_LATITUDE: 45 7 30.00000
SOUTH_LATITUDE: 45 3 45.00000
PRODUCTION_DATE: 2000 2 11
RASTER_ORDER: LEFT_RIGHT/TOP_BOTTOM
BAND_ORGANIZATION: SINGLE FILE
BAND_CONTENT: BLACK&WHITE
BAND_CONTENT: UNDEFINED
BAND_CONTENT: UNDEFINED
BITS_PER_PIXEL: 8
SAMPLES_AND_LINES: 5826 7731
HORIZONTAL_DATUM: NAD83
HORIZONTAL_COORDINATE_SYSTEM: UTM
COORDINATE_ZONE: 12
HORIZONTAL_UNITS: meters
HORIZONTAL_RESOLUTION: 1.00000
SECONDARY_HORIZONTAL_DATUM: NAD27
XY_ORIGIN: 730663.89000 5001515.05000
SECONDARY_XY_ORIGIN: 730723.00900 5001304.45200
NATION: US
STATE: MT
NW_QUAD_CORNER_XY: 731015.66400 5001034.91000
NE_QUAD_CORNER_XY: 735930.87500 5001215.55000
SE_QUAD_CORNERY_XY: 736188.59200 4994272.50000
SW_QUAD_CORNER_XY: 731268.00200 4994091.85900
SECONDARY_NW_QUAD_XY: 731022.50300 5000817.73400
SECONDARY_NE_QUAD_XY: 735937.86000 5000998.38000
SECONDARY_SE_QUAD_XY: 736195.57400 4994055.38400
SECONDARY_SW_QUAD_XY: 731274.83900 4993874.73700
RMSE_XY: 2.37000
IMAGE_SOURCE: BLACK & WHITE FILM
SOURCE_IMAGE_ID: NAPP 9161 033
SOURCE_IMAGE_DATE: 1998 7 12
SOURCE_IMAGE_ID: NAPP 9142 279
SOURCE_IMAGE_DATE: 1996 8 24
SOURCE_IMAGE_ID: NAPP 9142 278
SOURCE_IMAGE_DATE: 1996 8 24
SOURCE_IMAGE_ID: NAPP 9161 032
SOURCE_IMAGE_DATE: 1998 7 12
SOURCE_DEM_DATE: 1963 1 1
AGENCY: ROCKY MOUNTAIN MAPPING CENTER (RMMC)
PRODUCER: ROCKY MOUNTAIN MAPPING CENTER (RMMC)
PRODUCTION_SYSTEM: ImageStation OrthoPro 02.02.01.06
COMPRESSION: UNDEFINED
STANDARD_VERSION: 1996 12
METADATA_DATE: 2000 2 11
DATA_FILE_SIZE: 45046632
BYTE_COUNT: 5826
