FILENAME: O4510864.NWS.1050867.tif
QUADRANGLE_NAME: Two Point
QUADRANT: NW
WEST_LONGITUDE: -108 7 30.00000
EAST_LONGITUDE: -108 3 45.00000
NORTH_LATITUDE: 45 7 30.00000
SOUTH_LATITUDE: 45 3 45.00000
PRODUCTION_DATE: 2000 2 11
RASTER_ORDER: LEFT_RIGHT/TOP_BOTTOM
BAND_ORGANIZATION: SINGLE FILE
BAND_CONTENT: BLACK&WHITE
BAND_CONTENT: UNDEFINED
BAND_CONTENT: UNDEFINED
BITS_PER_PIXEL: 8
SAMPLES_AND_LINES: 5820 7727
HORIZONTAL_DATUM: NAD83
HORIZONTAL_COORDINATE_SYSTEM: UTM
COORDINATE_ZONE: 12
HORIZONTAL_UNITS: meters
HORIZONTAL_RESOLUTION: 1.00000
SECONDARY_HORIZONTAL_DATUM: NAD27
XY_ORIGIN: 725748.54000 5001334.41000
SECONDARY_XY_ORIGIN: 725807.65100 5001123.83600
NATION: US
STATE: MT
NW_QUAD_CORNER_XY: 726100.45200 5000858.08000
NE_QUAD_CORNER_XY: 731015.66400 5001034.91000
SE_QUAD_CORNERY_XY: 731268.00200 4994091.85900
SW_QUAD_CORNER_XY: 726347.41200 4993915.02700
SECONDARY_NW_QUAD_XY: 726107.14500 5000640.89800
SECONDARY_NE_QUAD_XY: 731022.50300 5000817.73400
SECONDARY_SE_QUAD_XY: 731274.83900 4993874.73700
SECONDARY_SW_QUAD_XY: 726354.10300 4993697.90000
RMSE_XY: 3.04000
IMAGE_SOURCE: BLACK & WHITE FILM
SOURCE_IMAGE_ID: NAPP 9161 033
SOURCE_IMAGE_DATE: 1998 7 12
SOURCE_IMAGE_ID: NAPP 9142 280
SOURCE_IMAGE_DATE: 1996 8 24
SOURCE_IMAGE_ID: NAPP 9142 279
SOURCE_IMAGE_DATE: 1996 8 24
SOURCE_IMAGE_ID: NAPP 9142 278
SOURCE_IMAGE_DATE: 1996 8 24
SOURCE_IMAGE_ID: NAPP 9161 032
SOURCE_IMAGE_DATE: 1998 7 12
SOURCE_DEM_DATE: 1963 1 1
AGENCY: ROCKY MOUNTAIN MAPPING CENTER (RMMC)
PRODUCER: ROCKY MOUNTAIN MAPPING CENTER (RMMC)
PRODUCTION_SYSTEM: ImageStation OrthoPro 02.02.01.06
COMPRESSION: UNDEFINED
STANDARD_VERSION: 1996 12
METADATA_DATE: 2000 2 11
DATA_FILE_SIZE: 44976960
BYTE_COUNT: 5820
