FILENAME: O4510864.SES.1050868.tif
QUADRANGLE_NAME: Two Point
QUADRANT: SE
WEST_LONGITUDE: -108 3 45.00000
EAST_LONGITUDE: -108 0 0.00000
NORTH_LATITUDE: 45 3 45.00000
SOUTH_LATITUDE: 45 0 0.00000
PRODUCTION_DATE: 2000 2 11
RASTER_ORDER: LEFT_RIGHT/TOP_BOTTOM
BAND_ORGANIZATION: SINGLE FILE
BAND_CONTENT: BLACK&WHITE
BAND_CONTENT: UNDEFINED
BAND_CONTENT: UNDEFINED
BITS_PER_PIXEL: 8
SAMPLES_AND_LINES: 5831 7731
HORIZONTAL_DATUM: NAD83
HORIZONTAL_COORDINATE_SYSTEM: UTM
COORDINATE_ZONE: 12
HORIZONTAL_UNITS: meters
HORIZONTAL_RESOLUTION: 1.00000
SECONDARY_HORIZONTAL_DATUM: NAD27
XY_ORIGIN: 730916.25000 4994572.00000
SECONDARY_XY_ORIGIN: 730975.34200 4994361.48500
NATION: US
STATE: MT
STATE: WY
NW_QUAD_CORNER_XY: 731268.00200 4994091.85900
NE_QUAD_CORNER_XY: 736188.59200 4994272.50000
SE_QUAD_CORNERY_XY: 736446.02600 4987329.50500
SW_QUAD_CORNER_XY: 731520.06300 4987148.86300
SECONDARY_NW_QUAD_XY: 731274.83900 4993874.73700
SECONDARY_NE_QUAD_XY: 736195.57400 4994055.38400
SECONDARY_SE_QUAD_XY: 736453.00600 4987112.44400
SECONDARY_SW_QUAD_XY: 731526.89800 4986931.79700
RMSE_XY: 0.64000
IMAGE_SOURCE: BLACK & WHITE FILM
SOURCE_IMAGE_ID: NAPP 9161 033
SOURCE_IMAGE_DATE: 1998 7 12
SOURCE_IMAGE_ID: NAPP 9161 034
SOURCE_IMAGE_DATE: 1998 7 12
SOURCE_IMAGE_ID: NAPP 9142 280
SOURCE_IMAGE_DATE: 1996 8 24
SOURCE_IMAGE_ID: NAPP 9142 279
SOURCE_IMAGE_DATE: 1996 8 24
SOURCE_DEM_DATE: 1963 1 1
AGENCY: ROCKY MOUNTAIN MAPPING CENTER (RMMC)
PRODUCER: ROCKY MOUNTAIN MAPPING CENTER (RMMC)
PRODUCTION_SYSTEM: ImageStation OrthoPro 02.02.01.06
COMPRESSION: UNDEFINED
STANDARD_VERSION: 1996 12
METADATA_DATE: 2000 2 11
DATA_FILE_SIZE: 45085292
BYTE_COUNT: 5831
