FILENAME: O4510864.SWS.1050869.tif
QUADRANGLE_NAME: Two Point
QUADRANT: SW
WEST_LONGITUDE: -108 7 30.00000
EAST_LONGITUDE: -108 3 45.00000
NORTH_LATITUDE: 45 3 45.00000
SOUTH_LATITUDE: 45 0 0.00000
PRODUCTION_DATE: 2000 2 11
RASTER_ORDER: LEFT_RIGHT/TOP_BOTTOM
BAND_ORGANIZATION: SINGLE FILE
BAND_CONTENT: BLACK&WHITE
BAND_CONTENT: UNDEFINED
BAND_CONTENT: UNDEFINED
BITS_PER_PIXEL: 8
SAMPLES_AND_LINES: 5826 7727
HORIZONTAL_DATUM: NAD83
HORIZONTAL_COORDINATE_SYSTEM: UTM
COORDINATE_ZONE: 12
HORIZONTAL_UNITS: meters
HORIZONTAL_RESOLUTION: 1.00000
SECONDARY_HORIZONTAL_DATUM: NAD27
XY_ORIGIN: 725995.52000 4994391.36000
SECONDARY_XY_ORIGIN: 726054.60800 4994180.87900
NATION: US
STATE: MT
STATE: WY
NW_QUAD_CORNER_XY: 726347.41200 4993915.02700
NE_QUAD_CORNER_XY: 731268.00200 4994091.85900
SE_QUAD_CORNERY_XY: 731520.06300 4987148.86300
SW_QUAD_CORNER_XY: 726594.10100 4986972.03100
SECONDARY_NW_QUAD_XY: 726354.10300 4993697.90000
SECONDARY_NE_QUAD_XY: 731274.83900 4993874.73700
SECONDARY_SE_QUAD_XY: 731526.89800 4986931.79700
SECONDARY_SW_QUAD_XY: 726600.79000 4986754.95900
RMSE_XY: 2.40000
IMAGE_SOURCE: BLACK & WHITE FILM
SOURCE_IMAGE_ID: NAPP 9161 033
SOURCE_IMAGE_DATE: 1998 7 12
SOURCE_IMAGE_ID: NAPP 9161 034
SOURCE_IMAGE_DATE: 1998 7 12
SOURCE_IMAGE_ID: NAPP 9142 280
SOURCE_IMAGE_DATE: 1996 8 24
SOURCE_IMAGE_ID: NAPP 9142 279
SOURCE_IMAGE_DATE: 1996 8 24
SOURCE_DEM_DATE: 1963 1 1
AGENCY: ROCKY MOUNTAIN MAPPING CENTER (RMMC)
PRODUCER: ROCKY MOUNTAIN MAPPING CENTER (RMMC)
PRODUCTION_SYSTEM: ImageStation OrthoPro 02.02.01.06
COMPRESSION: UNDEFINED
STANDARD_VERSION: 1996 12
METADATA_DATE: 2000 2 11
DATA_FILE_SIZE: 45023328
BYTE_COUNT: 5826
