FILENAME: O4510863.NES.927727.tif
QUADRANGLE_NAME: HILLSBORO
QUADRANT: NE
WEST_LONGITUDE: -108 11 15.00000
EAST_LONGITUDE: -108 7 30.00000
NORTH_LATITUDE: 45 7 30.00000
SOUTH_LATITUDE: 45 3 45.00000
PRODUCTION_DATE: 1997 10 28
RASTER_ORDER: LEFT_RIGHT/TOP_BOTTOM
BAND_ORGANIZATION: SINGLE FILE
BAND_CONTENT: BLACK&WHITE
BAND_CONTENT: UNDEFINED
BAND_CONTENT: UNDEFINED
BITS_PER_PIXEL: 8
SAMPLES_AND_LINES: 5818 7728
HORIZONTAL_DATUM: NAD83
HORIZONTAL_COORDINATE_SYSTEM: UTM
COORDINATE_ZONE: 12
HORIZONTAL_UNITS: METERS
HORIZONTAL_RESOLUTION: 1.00000
SECONDARY_HORIZONTAL_DATUM: NAD27
XY_ORIGIN: 720832.00000 5001167.00000
SECONDARY_XY_ORIGIN: 720891.10000 5000956.45000
NATION: US
STATE: MT
NW_QUAD_CORNER_XY: 721185.31000 5000685.02000
NE_QUAD_CORNER_XY: 726100.52000 5000858.04000
SE_QUAD_CORNERY_XY: 726347.48000 4993914.99000
SW_QUAD_CORNER_XY: 721426.89000 4993741.97000
SECONDARY_NW_QUAD_XY: 721191.85000 5000467.83000
SECONDARY_NE_QUAD_XY: 726107.21000 5000640.86000
SECONDARY_SE_QUAD_XY: 726354.17000 4993697.86000
SECONDARY_SW_QUAD_XY: 721433.43000 4993524.84000
RMSE_XY: 1.40000
IMAGE_SOURCE: BLACK AND WHITE FILM
SOURCE_IMAGE_ID: NAPP 7801 124
SOURCE_IMAGE_DATE: 1994 7 11
SOURCE_IMAGE_ID: NAPP 7801 123
SOURCE_IMAGE_DATE: 1994 7 11
SOURCE_DEM_DATE: 1997 10 28
AGENCY: WESTERN MAPPING CENTER (WMC)
PRODUCER: USDA FS GEOMETRONICS SERVICE CENTER
PRODUCTION_SYSTEM: DV2.6.3 10/9OV2.4 5/95
COMPRESSION: UNDEFINED
STANDARD_VERSION: 1996 12
METADATA_DATE: 1998 6 26
DATA_FILE_SIZE: 44967322
BYTE_COUNT: 5818
