FILENAME: O4510862.NES.927887.tif
QUADRANGLE_NAME: MYSTERY CAVE
QUADRANT: NE
WEST_LONGITUDE: -108 18 45.00000
EAST_LONGITUDE: -108 15 0.00000
NORTH_LATITUDE: 45 7 30.00000
SOUTH_LATITUDE: 45 3 45.00000
PRODUCTION_DATE: 1997 10 27
RASTER_ORDER: LEFT_RIGHT/TOP_BOTTOM
BAND_ORGANIZATION: SINGLE FILE
BAND_CONTENT: BLACK&WHITE
BAND_CONTENT: UNDEFINED
BAND_CONTENT: UNDEFINED
BITS_PER_PIXEL: 8
SAMPLES_AND_LINES: 5805 7719
HORIZONTAL_DATUM: NAD83
HORIZONTAL_COORDINATE_SYSTEM: UTM
COORDINATE_ZONE: 12
HORIZONTAL_UNITS: METERS
HORIZONTAL_RESOLUTION: 1.00000
SECONDARY_HORIZONTAL_DATUM: NAD27
XY_ORIGIN: 711001.00000 5000821.00000
SECONDARY_XY_ORIGIN: 711060.12000 5000610.56000
NATION: US
STATE: MT
NW_QUAD_CORNER_XY: 711354.88000 5000350.40000
NE_QUAD_CORNER_XY: 716270.09000 5000515.81000
SE_QUAD_CORNERY_XY: 716506.30000 4993572.75000
SW_QUAD_CORNER_XY: 711585.70000 4993407.35000
SECONDARY_NW_QUAD_XY: 711361.13000 5000133.21000
SECONDARY_NE_QUAD_XY: 716276.49000 5000298.62000
SECONDARY_SE_QUAD_XY: 716512.70000 4993355.62000
SECONDARY_SW_QUAD_XY: 711591.96000 4993190.20000
RMSE_XY: 1.40000
IMAGE_SOURCE: BLACK AND WHITE FILM
SOURCE_IMAGE_ID: NAPP 7802 5
SOURCE_IMAGE_DATE: 1994 7 11
SOURCE_IMAGE_ID: NAPP 7802 9134
SOURCE_IMAGE_DATE: 1994 7 11
SOURCE_IMAGE_ID: NAPP 7802 8
SOURCE_IMAGE_DATE: 1994 7 11
SOURCE_DEM_DATE: 1997 10 27
AGENCY: WESTERN MAPPING CENTER (WMC)
PRODUCER: USDA FS GEOMETRONICS SERVICE CENTER
PRODUCTION_SYSTEM: DV2.6.3 10/9OV2.4 5/95
COMPRESSION: UNDEFINED
STANDARD_VERSION: 1996 12
METADATA_DATE: 1998 6 26
DATA_FILE_SIZE: 44814600
BYTE_COUNT: 5805
