FILENAME: O4510862.NWS.927888.tif
QUADRANGLE_NAME: MYSTERY CAVE
QUADRANT: NW
WEST_LONGITUDE: -108 22 30.00000
EAST_LONGITUDE: -108 18 45.00000
NORTH_LATITUDE: 45 7 30.00000
SOUTH_LATITUDE: 45 3 45.00000
PRODUCTION_DATE: 1997 10 27
RASTER_ORDER: LEFT_RIGHT/TOP_BOTTOM
BAND_ORGANIZATION: SINGLE FILE
BAND_CONTENT: BLACK&WHITE
BAND_CONTENT: UNDEFINED
BAND_CONTENT: UNDEFINED
BITS_PER_PIXEL: 8
SAMPLES_AND_LINES: 5801 7715
HORIZONTAL_DATUM: NAD83
HORIZONTAL_COORDINATE_SYSTEM: UTM
COORDINATE_ZONE: 12
HORIZONTAL_UNITS: METERS
HORIZONTAL_RESOLUTION: 1.00000
SECONDARY_HORIZONTAL_DATUM: NAD27
XY_ORIGIN: 706086.00000 5000655.00000
SECONDARY_XY_ORIGIN: 706145.13000 5000444.65000
NATION: US
STATE: MT
NW_QUAD_CORNER_XY: 706439.66000 5000188.81000
NE_QUAD_CORNER_XY: 711354.88000 5000350.40000
SE_QUAD_CORNERY_XY: 711585.70000 4993407.35000
SW_QUAD_CORNER_XY: 706665.11000 4993245.75000
SECONDARY_NW_QUAD_XY: 706445.77000 4999971.60000
SECONDARY_NE_QUAD_XY: 711361.13000 5000133.21000
SECONDARY_SE_QUAD_XY: 711591.96000 4993190.20000
SECONDARY_SW_QUAD_XY: 706671.22000 4993028.60000
RMSE_XY: 1.40000
IMAGE_SOURCE: BLACK AND WHITE FILM
SOURCE_IMAGE_ID: NAPP 7802 101
SOURCE_IMAGE_DATE: 1994 7 11
SOURCE_IMAGE_ID: NAPP 7802 5
SOURCE_IMAGE_DATE: 1994 7 11
SOURCE_IMAGE_ID: NAPP 7802 9137
SOURCE_IMAGE_DATE: 1994 7 11
SOURCE_IMAGE_ID: NAPP 7802 106
SOURCE_IMAGE_DATE: 1994 7 11
SOURCE_DEM_DATE: 1997 10 27
AGENCY: WESTERN MAPPING CENTER (WMC)
PRODUCER: USDA FS GEOMETRONICS SERVICE CENTER
PRODUCTION_SYSTEM: DV2.6.3 10/9OV2.4 5/95
COMPRESSION: UNDEFINED
STANDARD_VERSION: 1996 12
METADATA_DATE: 1998 6 26
DATA_FILE_SIZE: 44760516
BYTE_COUNT: 5801
