FILENAME: O4510861.NWS.1050855.tif
QUADRANGLE_NAME: Red Pryor Mountain
QUADRANT: NW
WEST_LONGITUDE: -108 30 0.00000
EAST_LONGITUDE: -108 26 15.00000
NORTH_LATITUDE: 45 7 30.00000
SOUTH_LATITUDE: 45 3 45.00000
PRODUCTION_DATE: 2000 2 25
RASTER_ORDER: LEFT_RIGHT/TOP_BOTTOM
BAND_ORGANIZATION: SINGLE FILE
BAND_CONTENT: BLACK&WHITE
BAND_CONTENT: UNDEFINED
BAND_CONTENT: UNDEFINED
BITS_PER_PIXEL: 8
SAMPLES_AND_LINES: 5789 7705
HORIZONTAL_DATUM: NAD83
HORIZONTAL_COORDINATE_SYSTEM: UTM
COORDINATE_ZONE: 12
HORIZONTAL_UNITS: meters
HORIZONTAL_RESOLUTION: 1.00000
SECONDARY_HORIZONTAL_DATUM: NAD27
XY_ORIGIN: 696256.31000 5000330.55000
SECONDARY_XY_ORIGIN: 696315.48200 5000120.36600
NATION: US
STATE: MT
NW_QUAD_CORNER_XY: 696609.15600 4999877.07300
NE_QUAD_CORNER_XY: 701524.37400 5000031.05500
SE_QUAD_CORNERY_XY: 701744.45300 4993087.99700
SW_QUAD_CORNER_XY: 696823.86000 4992934.01400
SECONDARY_NW_QUAD_XY: 696614.97600 4999659.86300
SECONDARY_NE_QUAD_XY: 701530.34000 4999813.84900
SECONDARY_SE_QUAD_XY: 701750.41600 4992870.84600
SECONDARY_SW_QUAD_XY: 696829.67800 4992716.85800
RMSE_XY: 1.71000
IMAGE_SOURCE: BLACK & WHITE FILM
SOURCE_IMAGE_ID: NAPP 9161 063
SOURCE_IMAGE_DATE: 1998 7 12
SOURCE_IMAGE_ID: NAPP 9161 082
SOURCE_IMAGE_DATE: 1998 7 12
SOURCE_IMAGE_ID: NAPP 9161 064
SOURCE_IMAGE_DATE: 1998 7 12
SOURCE_IMAGE_ID: NAPP 9161 083
SOURCE_IMAGE_DATE: 1998 7 12
SOURCE_IMAGE_ID: NAPP 9161 062
SOURCE_IMAGE_DATE: 1998 7 12
SOURCE_DEM_DATE: 1963 1 1
AGENCY: ROCKY MOUNTAIN MAPPING CENTER (RMMC)
PRODUCER: ROCKY MOUNTAIN MAPPING CENTER (RMMC)
PRODUCTION_SYSTEM: ImageStation OrthoPro 02.02.01.06
COMPRESSION: UNDEFINED
STANDARD_VERSION: 1996 12
METADATA_DATE: 2000 2 25
DATA_FILE_SIZE: 44610034
BYTE_COUNT: 5789
