FILENAME: O4510860.NES.1005701.tif
QUADRANGLE_NAME: BEAR CANYON
QUADRANT: NE
WEST_LONGITUDE: -108 33 45.00000
EAST_LONGITUDE: -108 30 0.00000
NORTH_LATITUDE: 45 7 30.00000
SOUTH_LATITUDE: 45 3 45.00000
PRODUCTION_DATE: 1999 4 20
RASTER_ORDER: LEFT_RIGHT/TOP_BOTTOM
BAND_ORGANIZATION: SINGLE FILE
BAND_CONTENT: BLACK&WHITE
BAND_CONTENT: UNDEFINED
BAND_CONTENT: UNDEFINED
BITS_PER_PIXEL: 8
SAMPLES_AND_LINES: 5786 7704
HORIZONTAL_DATUM: NAD83
HORIZONTAL_COORDINATE_SYSTEM: UTM
COORDINATE_ZONE: 12
HORIZONTAL_UNITS: METERS
HORIZONTAL_RESOLUTION: 1.00000
SECONDARY_HORIZONTAL_DATUM: NAD27
XY_ORIGIN: 691339.00000 5000178.00000
SECONDARY_XY_ORIGIN: 691398.21000 4999967.83700
NATION: US
NATION: "SCIENCE
STATE: MT
NW_QUAD_CORNER_XY: 691693.93700 4999726.89700
NE_QUAD_CORNER_XY: 696609.15600 4999877.07200
SE_QUAD_CORNERY_XY: 696823.86000 4992934.01400
SW_QUAD_CORNER_XY: 691903.26700 4992783.83800
SECONDARY_NW_QUAD_XY: 691699.61100 4999509.68200
SECONDARY_NE_QUAD_XY: 696614.97600 4999659.86200
SECONDARY_SE_QUAD_XY: 696829.67800 4992716.85800
SECONDARY_SW_QUAD_XY: 691908.93900 4992566.67700
RMSE_XY: 3.80000
IMAGE_SOURCE: BLACK AND WHITE FILM
SOURCE_IMAGE_ID: NAPP 9138 010
SOURCE_IMAGE_DATE: 1996 08 23
SOURCE_IMAGE_ID: NAPP 9138 263
SOURCE_IMAGE_DATE: 1996 08 23
SOURCE_IMAGE_ID: NAPP 9138 262
SOURCE_IMAGE_DATE: 1996 08 23
SOURCE_IMAGE_ID: NAPP 9138 261
SOURCE_IMAGE_DATE: 1996 08 23
SOURCE_IMAGE_ID: NAPP 9138 008
SOURCE_IMAGE_DATE: 1996 08 23
SOURCE_DEM_DATE: 1997 01 01
AGENCY: WESTERN MAPPING CENTER (WMC)
PRODUCER: UNDEFINED
PRODUCTION_SYSTEM: GIS/MAGIC
COMPRESSION: UNDEFINED
STANDARD_VERSION: 1996 12
METADATA_DATE: 1999 05 18
DATA_FILE_SIZE: 44581130
BYTE_COUNT: 5786
