FILENAME: O4510860.NWS.1005702.tif
QUADRANGLE_NAME: BEAR CANYON
QUADRANT: NW
WEST_LONGITUDE: -108 37 30.00000
EAST_LONGITUDE: -108 33 45.00000
NORTH_LATITUDE: 45 7 30.00000
SOUTH_LATITUDE: 45 3 45.00000
PRODUCTION_DATE: 1999 4 19
RASTER_ORDER: LEFT_RIGHT/TOP_BOTTOM
BAND_ORGANIZATION: SINGLE FILE
BAND_CONTENT: BLACK&WHITE
BAND_CONTENT: UNDEFINED
BAND_CONTENT: UNDEFINED
BITS_PER_PIXEL: 8
SAMPLES_AND_LINES: 5782 7699
HORIZONTAL_DATUM: NAD83
HORIZONTAL_COORDINATE_SYSTEM: UTM
COORDINATE_ZONE: 12
HORIZONTAL_UNITS: METERS
HORIZONTAL_RESOLUTION: 1.00000
SECONDARY_HORIZONTAL_DATUM: NAD27
XY_ORIGIN: 686423.00000 5000027.00000
SECONDARY_XY_ORIGIN: 686482.25000 4999816.86100
NATION: US
NATION: "SCIENCE
STATE: MT
NW_QUAD_CORNER_XY: 686778.71700 4999580.52800
NE_QUAD_CORNER_XY: 691693.93700 4999726.89700
SE_QUAD_CORNERY_XY: 691903.26700 4992783.83800
SW_QUAD_CORNER_XY: 686982.67300 4992637.46800
SECONDARY_NW_QUAD_XY: 686784.24600 4999363.30900
SECONDARY_NE_QUAD_XY: 691699.61100 4999509.68200
SECONDARY_SE_QUAD_XY: 691908.93900 4992566.67700
SECONDARY_SW_QUAD_XY: 686988.20000 4992420.30300
RMSE_XY: 3.10000
IMAGE_SOURCE: BLACK AND WHITE FILM
SOURCE_IMAGE_ID: NAPP 9138 010
SOURCE_IMAGE_DATE: 1996 08 23
SOURCE_IMAGE_ID: NAPP 9138 270
SOURCE_IMAGE_DATE: 1996 08 23
SOURCE_IMAGE_ID: NAPP 9138 264
SOURCE_IMAGE_DATE: 1996 08 23
SOURCE_IMAGE_ID: NAPP 9138 263
SOURCE_IMAGE_DATE: 1996 08 23
SOURCE_IMAGE_ID: NAPP 9138 261
SOURCE_IMAGE_DATE: 1996 08 23
SOURCE_DEM_DATE: 1997 01 01
AGENCY: WESTERN MAPPING CENTER (WMC)
PRODUCER: UNDEFINED
PRODUCTION_SYSTEM: GIS/MAGIC
COMPRESSION: UNDEFINED
STANDARD_VERSION: 1996 12
METADATA_DATE: 1999 05 18
DATA_FILE_SIZE: 44521400
BYTE_COUNT: 5782
