FILENAME: O4510858.NES.1007194.tif
QUADRANGLE_NAME: HUNTERS CREEK
QUADRANT: NE
WEST_LONGITUDE: -108 48 45.00000
EAST_LONGITUDE: -108 45 0.00000
NORTH_LATITUDE: 45 7 30.00000
SOUTH_LATITUDE: 45 3 45.00000
PRODUCTION_DATE: 1999 4 13
RASTER_ORDER: LEFT_RIGHT/TOP_BOTTOM
BAND_ORGANIZATION: SINGLE FILE
BAND_CONTENT: BLACK&WHITE
BAND_CONTENT: UNDEFINED
BAND_CONTENT: UNDEFINED
BITS_PER_PIXEL: 8
SAMPLES_AND_LINES: 5766 7688
HORIZONTAL_DATUM: NAD83
HORIZONTAL_COORDINATE_SYSTEM: UTM
COORDINATE_ZONE: 12
HORIZONTAL_UNITS: METERS
HORIZONTAL_RESOLUTION: 1.00000
SECONDARY_HORIZONTAL_DATUM: NAD27
XY_ORIGIN: 671677.00000 4999600.00000
SECONDARY_XY_ORIGIN: 671736.37100 4999389.92500
NATION: US
NATION: "SCIENCE
STATE: MT
NW_QUAD_CORNER_XY: 672033.05300 4999164.25700
NE_QUAD_CORNER_XY: 676948.27500 4999299.20900
SE_QUAD_CORNERY_XY: 677141.48500 4992356.14700
SW_QUAD_CORNER_XY: 672220.89000 4992221.19500
SECONDARY_NW_QUAD_XY: 672038.14500 4998947.02600
SECONDARY_NE_QUAD_XY: 676953.51200 4999081.98100
SECONDARY_SE_QUAD_XY: 677146.72100 4992138.97400
SECONDARY_SW_QUAD_XY: 672225.98100 4992004.01800
RMSE_XY: 1.30000
IMAGE_SOURCE: BLACK AND WHITE FILM
SOURCE_IMAGE_ID: NAPP 9140 116
SOURCE_IMAGE_DATE: 1996 08 23
SOURCE_IMAGE_ID: NAPP 9147 033
SOURCE_IMAGE_DATE: 1996 08 24
SOURCE_IMAGE_ID: NAPP 9147 031
SOURCE_IMAGE_DATE: 1996 08 24
SOURCE_IMAGE_ID: NAPP 9141 009
SOURCE_IMAGE_DATE: 1996 08 23
SOURCE_IMAGE_ID: NAPP 9141 011
SOURCE_IMAGE_DATE: 1996 08 23
SOURCE_DEM_DATE: 1997 01 01
AGENCY: WESTERN MAPPING CENTER (WMC)
PRODUCER: UNDEFINED
PRODUCTION_SYSTEM: GIS/MAGIC
COMPRESSION: UNDEFINED
STANDARD_VERSION: 1996 12
METADATA_DATE: 1999 04 28
DATA_FILE_SIZE: 44334774
BYTE_COUNT: 5766
