FILENAME: O4510858.NWS.1007195.tif
QUADRANGLE_NAME: HUNTERS CREEK
QUADRANT: NW
WEST_LONGITUDE: -108 52 30.00000
EAST_LONGITUDE: -108 48 45.00000
NORTH_LATITUDE: 45 7 30.00000
SOUTH_LATITUDE: 45 3 45.00000
PRODUCTION_DATE: 1999 4 13
RASTER_ORDER: LEFT_RIGHT/TOP_BOTTOM
BAND_ORGANIZATION: SINGLE FILE
BAND_CONTENT: BLACK&WHITE
BAND_CONTENT: UNDEFINED
BAND_CONTENT: UNDEFINED
BITS_PER_PIXEL: 8
SAMPLES_AND_LINES: 5760 7685
HORIZONTAL_DATUM: NAD83
HORIZONTAL_COORDINATE_SYSTEM: UTM
COORDINATE_ZONE: 12
HORIZONTAL_UNITS: METERS
HORIZONTAL_RESOLUTION: 1.00000
SECONDARY_HORIZONTAL_DATUM: NAD27
XY_ORIGIN: 666762.00000 4999465.00000
SECONDARY_XY_ORIGIN: 666821.41400 4999254.94100
NATION: US
NATION: "SCIENCE
STATE: MT
NW_QUAD_CORNER_XY: 667117.83000 4999033.11100
NE_QUAD_CORNER_XY: 672033.05300 4999164.25700
SE_QUAD_CORNERY_XY: 672220.89000 4992221.19500
SW_QUAD_CORNER_XY: 667300.29600 4992090.04800
SECONDARY_NW_QUAD_XY: 667122.77600 4998815.87600
SECONDARY_NE_QUAD_XY: 672038.14500 4998947.02600
SECONDARY_SE_QUAD_XY: 672225.98100 4992004.01800
SECONDARY_SW_QUAD_XY: 667305.24100 4991872.86700
RMSE_XY: 1.30000
IMAGE_SOURCE: BLACK AND WHITE FILM
SOURCE_IMAGE_ID: NAPP 9147 032
SOURCE_IMAGE_DATE: 1996 08 24
SOURCE_IMAGE_ID: NAPP 9147 038
SOURCE_IMAGE_DATE: 1996 08 24
SOURCE_IMAGE_ID: NAPP 9147 040
SOURCE_IMAGE_DATE: 1996 08 24
SOURCE_IMAGE_ID: NAPP 9147 033
SOURCE_IMAGE_DATE: 1996 08 24
SOURCE_IMAGE_ID: NAPP 9147 031
SOURCE_IMAGE_DATE: 1996 08 24
SOURCE_DEM_DATE: 1997 01 01
AGENCY: WESTERN MAPPING CENTER (WMC)
PRODUCER: UNDEFINED
PRODUCTION_SYSTEM: GIS/MAGIC
COMPRESSION: UNDEFINED
STANDARD_VERSION: 1996 12
METADATA_DATE: 1999 04 28
DATA_FILE_SIZE: 44271360
BYTE_COUNT: 5760
