FILENAME: O4510857.NES.1007162.tif
QUADRANGLE_NAME: LONG DRAW
QUADRANT: NE
WEST_LONGITUDE: -108 56 15.00000
EAST_LONGITUDE: -108 52 30.00000
NORTH_LATITUDE: 45 7 30.00000
SOUTH_LATITUDE: 45 3 45.00000
PRODUCTION_DATE: 1999 4 13
RASTER_ORDER: LEFT_RIGHT/TOP_BOTTOM
BAND_ORGANIZATION: SINGLE FILE
BAND_CONTENT: BLACK&WHITE
BAND_CONTENT: UNDEFINED
BAND_CONTENT: UNDEFINED
BITS_PER_PIXEL: 8
SAMPLES_AND_LINES: 5756 7681
HORIZONTAL_DATUM: NAD83
HORIZONTAL_COORDINATE_SYSTEM: UTM
COORDINATE_ZONE: 12
HORIZONTAL_UNITS: METERS
HORIZONTAL_RESOLUTION: 1.00000
SECONDARY_HORIZONTAL_DATUM: NAD27
XY_ORIGIN: 661846.00000 4999334.00000
SECONDARY_XY_ORIGIN: 661905.45600 4999123.95700
NATION: US
NATION: "SCIENCE
STATE: MT
NW_QUAD_CORNER_XY: 662202.60600 4998905.76900
NE_QUAD_CORNER_XY: 667117.83000 4999033.11100
SE_QUAD_CORNERY_XY: 667300.29600 4992090.04800
SW_QUAD_CORNER_XY: 662379.70100 4991962.70600
SECONDARY_NW_QUAD_XY: 662207.40700 4998688.53000
SECONDARY_NE_QUAD_XY: 667122.77600 4998815.87600
SECONDARY_SE_QUAD_XY: 667305.24100 4991872.86700
SECONDARY_SW_QUAD_XY: 662384.50000 4991745.52100
RMSE_XY: 2.20000
IMAGE_SOURCE: BLACK AND WHITE FILM
SOURCE_IMAGE_ID: NAPP 9147 039
SOURCE_IMAGE_DATE: 1996 08 24
SOURCE_IMAGE_ID: NAPP 9147 292
SOURCE_IMAGE_DATE: 1996 08 24
SOURCE_IMAGE_ID: NAPP 9147 038
SOURCE_IMAGE_DATE: 1996 08 24
SOURCE_IMAGE_ID: NAPP 9147 040
SOURCE_IMAGE_DATE: 1996 08 24
SOURCE_DEM_DATE: 1981 08 00
AGENCY: WESTERN MAPPING CENTER (WMC)
PRODUCER: UNDEFINED
PRODUCTION_SYSTEM: GIS/MAGIC
COMPRESSION: UNDEFINED
STANDARD_VERSION: 1996 12
METADATA_DATE: 1999 04 28
DATA_FILE_SIZE: 44217592
BYTE_COUNT: 5756
