FILENAME: O4510857.NWS.1007163.tif
QUADRANGLE_NAME: LONG DRAW
QUADRANT: NW
WEST_LONGITUDE: -109 0 0.00000
EAST_LONGITUDE: -108 56 15.00000
NORTH_LATITUDE: 45 7 30.00000
SOUTH_LATITUDE: 45 3 45.00000
PRODUCTION_DATE: 1999 4 13
RASTER_ORDER: LEFT_RIGHT/TOP_BOTTOM
BAND_ORGANIZATION: SINGLE FILE
BAND_CONTENT: BLACK&WHITE
BAND_CONTENT: UNDEFINED
BAND_CONTENT: UNDEFINED
BITS_PER_PIXEL: 8
SAMPLES_AND_LINES: 5750 7677
HORIZONTAL_DATUM: NAD83
HORIZONTAL_COORDINATE_SYSTEM: UTM
COORDINATE_ZONE: 12
HORIZONTAL_UNITS: METERS
HORIZONTAL_RESOLUTION: 1.00000
SECONDARY_HORIZONTAL_DATUM: NAD27
XY_ORIGIN: 656931.00000 4999206.00000
SECONDARY_XY_ORIGIN: 656990.49900 4998995.97300
NATION: US
NATION: "SCIENCE
STATE: MT
NW_QUAD_CORNER_XY: 657287.38200 4998782.23200
NE_QUAD_CORNER_XY: 662202.60600 4998905.76900
SE_QUAD_CORNERY_XY: 662379.70100 4991962.70600
SW_QUAD_CORNER_XY: 657459.10500 4991839.16800
SECONDARY_NW_QUAD_XY: 657292.03700 4998564.99000
SECONDARY_NE_QUAD_XY: 662207.40700 4998688.53000
SECONDARY_SE_QUAD_XY: 662384.50000 4991745.52100
SECONDARY_SW_QUAD_XY: 657463.76000 4991621.98000
RMSE_XY: 2.30000
IMAGE_SOURCE: BLACK AND WHITE FILM
SOURCE_IMAGE_ID: NAPP 9147 292
SOURCE_IMAGE_DATE: 1996 08 24
SOURCE_IMAGE_ID: NAPP 9147 294
SOURCE_IMAGE_DATE: 1996 08 24
SOURCE_IMAGE_ID: NAPP 9147 290
SOURCE_IMAGE_DATE: 1996 08 24
SOURCE_IMAGE_ID: NAPP 9147 038
SOURCE_IMAGE_DATE: 1996 08 24
SOURCE_DEM_DATE: 1981 08 00
AGENCY: WESTERN MAPPING CENTER (WMC)
PRODUCER: UNDEFINED
PRODUCTION_SYSTEM: GIS/MAGIC
COMPRESSION: UNDEFINED
STANDARD_VERSION: 1996 12
METADATA_DATE: 1999 04 28
DATA_FILE_SIZE: 44148500
BYTE_COUNT: 5750
