FILENAME: O4510857.SWS.1007165.tif
QUADRANGLE_NAME: LONG DRAW
QUADRANT: SW
WEST_LONGITUDE: -109 0 0.00000
EAST_LONGITUDE: -108 56 15.00000
NORTH_LATITUDE: 45 3 45.00000
SOUTH_LATITUDE: 45 0 0.00000
PRODUCTION_DATE: 1999 4 13
RASTER_ORDER: LEFT_RIGHT/TOP_BOTTOM
BAND_ORGANIZATION: SINGLE FILE
BAND_CONTENT: BLACK&WHITE
BAND_CONTENT: UNDEFINED
BAND_CONTENT: UNDEFINED
BITS_PER_PIXEL: 8
SAMPLES_AND_LINES: 5755 7676
HORIZONTAL_DATUM: NAD83
HORIZONTAL_COORDINATE_SYSTEM: UTM
COORDINATE_ZONE: 12
HORIZONTAL_UNITS: METERS
HORIZONTAL_RESOLUTION: 1.00000
SECONDARY_HORIZONTAL_DATUM: NAD27
XY_ORIGIN: 657103.00000 4992263.00000
SECONDARY_XY_ORIGIN: 657162.47400 4992052.98500
NATION: US
NATION: "SCIENCE
STATE: MT
NW_QUAD_CORNER_XY: 657459.10500 4991839.16800
NE_QUAD_CORNER_XY: 662379.70100 4991962.70600
SE_QUAD_CORNERY_XY: 662556.60100 4985019.70900
SW_QUAD_CORNER_XY: 657630.64100 4984896.17100
SECONDARY_NW_QUAD_XY: 657463.76000 4991621.98000
SECONDARY_NE_QUAD_XY: 662384.50000 4991745.52100
SECONDARY_SE_QUAD_XY: 662561.39900 4984802.57900
SECONDARY_SW_QUAD_XY: 657635.29400 4984679.03800
RMSE_XY: 1.90000
IMAGE_SOURCE: BLACK AND WHITE FILM
SOURCE_IMAGE_ID: NAPP 9147 294
SOURCE_IMAGE_DATE: 1996 08 24
SOURCE_IMAGE_ID: NAPP 9147 038
SOURCE_IMAGE_DATE: 1996 08 24
SOURCE_DEM_DATE: 1981 08 00
AGENCY: WESTERN MAPPING CENTER (WMC)
PRODUCER: UNDEFINED
PRODUCTION_SYSTEM: GIS/MAGIC
COMPRESSION: UNDEFINED
STANDARD_VERSION: 1996 12
METADATA_DATE: 1999 04 28
DATA_FILE_SIZE: 44181135
BYTE_COUNT: 5755
