FILENAME: O4510856.NWS.927068.tif
QUADRANGLE_NAME: LITTLE FINGER RIDGE
QUADRANT: NW
WEST_LONGITUDE: -108 7 30.00000
EAST_LONGITUDE: -108 3 45.00000
NORTH_LATITUDE: 45 15 0.00000
SOUTH_LATITUDE: 45 11 15.00000
PRODUCTION_DATE: 1997 11 26
RASTER_ORDER: LEFT_RIGHT/TOP_BOTTOM
BAND_ORGANIZATION: SINGLE FILE
BAND_CONTENT: BLACK&WHITE
BAND_CONTENT: UNDEFINED
BAND_CONTENT: UNDEFINED
BITS_PER_PIXEL: 8
SAMPLES_AND_LINES: 5813 7730
HORIZONTAL_DATUM: NAD83
HORIZONTAL_COORDINATE_SYSTEM: UTM
COORDINATE_ZONE: 12
HORIZONTAL_UNITS: METERS
HORIZONTAL_RESOLUTION: 1.00000
SECONDARY_HORIZONTAL_DATUM: NAD27
XY_ORIGIN: 725252.00000 5015226.00000
SECONDARY_XY_ORIGIN: 725311.16000 5015015.25000
NATION: US
STATE: MT
NW_QUAD_CORNER_XY: 725605.79000 5014744.32000
NE_QUAD_CORNER_XY: 730510.23000 5014921.14000
SE_QUAD_CORNERY_XY: 730763.12000 5007977.98000
SW_QUAD_CORNER_XY: 725853.29000 5007801.15000
SECONDARY_NW_QUAD_XY: 725612.48000 5014527.03000
SECONDARY_NE_QUAD_XY: 730517.07000 5014703.86000
SECONDARY_SE_QUAD_XY: 730769.96000 5007760.75000
SECONDARY_SW_QUAD_XY: 725859.98000 5007583.92000
RMSE_XY: 2.90000
IMAGE_SOURCE: BLACK AND WHITE FILM
SOURCE_IMAGE_ID: NAPP 9142 274
SOURCE_IMAGE_DATE: 1996 8 24
SOURCE_IMAGE_ID: NAPP 9142 275
SOURCE_IMAGE_DATE: 1996 8 24
SOURCE_IMAGE_ID: NAPP 9142 273
SOURCE_IMAGE_DATE: 1996 8 24
SOURCE_DEM_DATE: 1997 11 26
AGENCY: WESTERN MAPPING CENTER (WMC)
PRODUCER: USDA FS GEOMETRONICS SERVICE CENTER
PRODUCTION_SYSTEM: DV2.6.3 10/9OV2.4 5/95
COMPRESSION: UNDEFINED
STANDARD_VERSION: 1996 12
METADATA_DATE: 1998 4 3
DATA_FILE_SIZE: 44940303
BYTE_COUNT: 5813
