FILENAME: O4510855.NES.927723.tif
QUADRANGLE_NAME: DEAD INDIAN HILL
QUADRANT: NE
WEST_LONGITUDE: -108 11 15.00000
EAST_LONGITUDE: -108 7 30.00000
NORTH_LATITUDE: 45 15 0.00000
SOUTH_LATITUDE: 45 11 15.00000
PRODUCTION_DATE: 1997 10 28
RASTER_ORDER: LEFT_RIGHT/TOP_BOTTOM
BAND_ORGANIZATION: SINGLE FILE
BAND_CONTENT: BLACK&WHITE
BAND_CONTENT: UNDEFINED
BAND_CONTENT: UNDEFINED
BITS_PER_PIXEL: 8
SAMPLES_AND_LINES: 5805 7726
HORIZONTAL_DATUM: NAD83
HORIZONTAL_COORDINATE_SYSTEM: UTM
COORDINATE_ZONE: 12
HORIZONTAL_UNITS: METERS
HORIZONTAL_RESOLUTION: 1.00000
SECONDARY_HORIZONTAL_DATUM: NAD27
XY_ORIGIN: 720348.00000 5015049.00000
SECONDARY_XY_ORIGIN: 720407.14000 5014838.25000
NATION: US
STATE: MT
NW_QUAD_CORNER_XY: 720701.35000 5014571.30000
NE_QUAD_CORNER_XY: 725605.79000 5014744.32000
SE_QUAD_CORNERY_XY: 725853.29000 5007801.15000
SW_QUAD_CORNER_XY: 720943.46000 5007628.13000
SECONDARY_NW_QUAD_XY: 720707.90000 5014354.01000
SECONDARY_NE_QUAD_XY: 725612.48000 5014527.03000
SECONDARY_SE_QUAD_XY: 725859.98000 5007583.92000
SECONDARY_SW_QUAD_XY: 720950.01000 5007410.89000
RMSE_XY: 1.40000
IMAGE_SOURCE: BLACK AND WHITE FILM
SOURCE_IMAGE_ID: NAPP 9143 13
SOURCE_IMAGE_DATE: 1996 8 24
SOURCE_IMAGE_ID: NAPP 9143 12
SOURCE_IMAGE_DATE: 1996 8 24
SOURCE_IMAGE_ID: NAPP 9143 11
SOURCE_IMAGE_DATE: 1996 8 24
SOURCE_DEM_DATE: 1997 10 28
AGENCY: WESTERN MAPPING CENTER (WMC)
PRODUCER: USDA FS GEOMETRONICS SERVICE CENTER
PRODUCTION_SYSTEM: DV2.6.3 10/9OV2.4 5/95
COMPRESSION: UNDEFINED
STANDARD_VERSION: 1996 12
METADATA_DATE: 1998 6 26
DATA_FILE_SIZE: 44855235
BYTE_COUNT: 5805
