FILENAME: O4510855.NWS.927724.tif
QUADRANGLE_NAME: DEAD INDIAN HILL
QUADRANT: NW
WEST_LONGITUDE: -108 15 0.00000
EAST_LONGITUDE: -108 11 15.00000
NORTH_LATITUDE: 45 15 0.00000
SOUTH_LATITUDE: 45 11 15.00000
PRODUCTION_DATE: 1997 10 28
RASTER_ORDER: LEFT_RIGHT/TOP_BOTTOM
BAND_ORGANIZATION: SINGLE FILE
BAND_CONTENT: BLACK&WHITE
BAND_CONTENT: UNDEFINED
BAND_CONTENT: UNDEFINED
BITS_PER_PIXEL: 8
SAMPLES_AND_LINES: 5801 7723
HORIZONTAL_DATUM: NAD83
HORIZONTAL_COORDINATE_SYSTEM: UTM
COORDINATE_ZONE: 12
HORIZONTAL_UNITS: METERS
HORIZONTAL_RESOLUTION: 1.00000
SECONDARY_HORIZONTAL_DATUM: NAD27
XY_ORIGIN: 715443.00000 5014876.00000
SECONDARY_XY_ORIGIN: 715502.13000 5014665.26000
NATION: US
STATE: MT
NW_QUAD_CORNER_XY: 715796.90000 5014402.09000
NE_QUAD_CORNER_XY: 720701.35000 5014571.30000
SE_QUAD_CORNERY_XY: 720943.46000 5007628.13000
SW_QUAD_CORNER_XY: 716033.63000 5007458.92000
SECONDARY_NW_QUAD_XY: 715803.31000 5014184.80000
SECONDARY_NE_QUAD_XY: 720707.90000 5014354.01000
SECONDARY_SE_QUAD_XY: 720950.01000 5007410.89000
SECONDARY_SW_QUAD_XY: 716040.03000 5007241.68000
RMSE_XY: 1.40000
IMAGE_SOURCE: BLACK AND WHITE FILM
SOURCE_IMAGE_ID: NAPP 9146 69
SOURCE_IMAGE_DATE: 1996 8 24
SOURCE_IMAGE_ID: NAPP 9146 9143
SOURCE_IMAGE_DATE: 1996 8 24
SOURCE_IMAGE_ID: NAPP 9146 13
SOURCE_IMAGE_DATE: 1996 8 24
SOURCE_DEM_DATE: 1997 10 28
AGENCY: WESTERN MAPPING CENTER (WMC)
PRODUCER: USDA FS GEOMETRONICS SERVICE CENTER
PRODUCTION_SYSTEM: DV2.6.3 10/9OV2.4 5/95
COMPRESSION: UNDEFINED
STANDARD_VERSION: 1996 12
METADATA_DATE: 1998 6 26
DATA_FILE_SIZE: 44806924
BYTE_COUNT: 5801
