FILENAME: O4510854.NES.927719.tif
QUADRANGLE_NAME: EAST PRYOR MOUNTAIN
QUADRANT: NE
WEST_LONGITUDE: -108 18 45.00000
EAST_LONGITUDE: -108 15 0.00000
NORTH_LATITUDE: 45 15 0.00000
SOUTH_LATITUDE: 45 11 15.00000
PRODUCTION_DATE: 1997 10 27
RASTER_ORDER: LEFT_RIGHT/TOP_BOTTOM
BAND_ORGANIZATION: SINGLE FILE
BAND_CONTENT: BLACK&WHITE
BAND_CONTENT: UNDEFINED
BAND_CONTENT: UNDEFINED
BITS_PER_PIXEL: 8
SAMPLES_AND_LINES: 5797 7719
HORIZONTAL_DATUM: NAD83
HORIZONTAL_COORDINATE_SYSTEM: UTM
COORDINATE_ZONE: 12
HORIZONTAL_UNITS: METERS
HORIZONTAL_RESOLUTION: 1.00000
SECONDARY_HORIZONTAL_DATUM: NAD27
XY_ORIGIN: 710539.00000 5014707.00000
SECONDARY_XY_ORIGIN: 710598.14000 5014496.37000
NATION: US
STATE: MT
NW_QUAD_CORNER_XY: 710892.46000 5014236.69000
NE_QUAD_CORNER_XY: 715796.90000 5014402.09000
SE_QUAD_CORNERY_XY: 716033.63000 5007458.92000
SW_QUAD_CORNER_XY: 711123.79000 5007293.52000
SECONDARY_NW_QUAD_XY: 710898.72000 5014019.39000
SECONDARY_NE_QUAD_XY: 715803.31000 5014184.80000
SECONDARY_SE_QUAD_XY: 716040.03000 5007241.68000
SECONDARY_SW_QUAD_XY: 711130.05000 5007076.27000
RMSE_XY: 3.10000
IMAGE_SOURCE: BLACK AND WHITE FILM
SOURCE_IMAGE_ID: NAPP 9134 10
SOURCE_IMAGE_DATE: 1996 8 10
SOURCE_IMAGE_ID: NAPP 9134 8
SOURCE_IMAGE_DATE: 1996 8 10
SOURCE_DEM_DATE: 1997 10 27
AGENCY: WESTERN MAPPING CENTER (WMC)
PRODUCER: USDA FS GEOMETRONICS SERVICE CENTER
PRODUCTION_SYSTEM: DV2.6.3 10/9OV2.4 5/95
COMPRESSION: UNDEFINED
STANDARD_VERSION: 1996 12
METADATA_DATE: 1998 6 26
DATA_FILE_SIZE: 44752840
BYTE_COUNT: 5797
