FILENAME: O4510854.NWS.927720.tif
QUADRANGLE_NAME: EAST PRYOR MOUNTAIN
QUADRANT: NW
WEST_LONGITUDE: -108 22 30.00000
EAST_LONGITUDE: -108 18 45.00000
NORTH_LATITUDE: 45 15 0.00000
SOUTH_LATITUDE: 45 11 15.00000
PRODUCTION_DATE: 1997 10 27
RASTER_ORDER: LEFT_RIGHT/TOP_BOTTOM
BAND_ORGANIZATION: SINGLE FILE
BAND_CONTENT: BLACK&WHITE
BAND_CONTENT: UNDEFINED
BAND_CONTENT: UNDEFINED
BITS_PER_PIXEL: 8
SAMPLES_AND_LINES: 5793 7716
HORIZONTAL_DATUM: NAD83
HORIZONTAL_COORDINATE_SYSTEM: UTM
COORDINATE_ZONE: 12
HORIZONTAL_UNITS: METERS
HORIZONTAL_RESOLUTION: 1.00000
SECONDARY_HORIZONTAL_DATUM: NAD27
XY_ORIGIN: 705634.00000 5014542.00000
SECONDARY_XY_ORIGIN: 705693.15000 5014331.48000
NATION: US
STATE: MT
NW_QUAD_CORNER_XY: 705988.01000 5014075.10000
NE_QUAD_CORNER_XY: 710892.46000 5014236.69000
SE_QUAD_CORNERY_XY: 711123.79000 5007293.52000
SW_QUAD_CORNER_XY: 706213.96000 5007131.92000
SECONDARY_NW_QUAD_XY: 705994.13000 5013857.79000
SECONDARY_NE_QUAD_XY: 710898.72000 5014019.39000
SECONDARY_SE_QUAD_XY: 711130.05000 5007076.27000
SECONDARY_SW_QUAD_XY: 706220.07000 5006914.67000
RMSE_XY: 3.10000
IMAGE_SOURCE: BLACK AND WHITE FILM
SOURCE_IMAGE_ID: NAPP 104 105
SOURCE_IMAGE_DATE: 1996 8 23
SOURCE_DEM_DATE: 1997 10 27
AGENCY: WESTERN MAPPING CENTER (WMC)
PRODUCER: USDA FS GEOMETRONICS SERVICE CENTER
PRODUCTION_SYSTEM: DV2.6.3 10/9OV2.4 5/95
COMPRESSION: UNDEFINED
STANDARD_VERSION: 1996 12
METADATA_DATE: 1998 6 26
DATA_FILE_SIZE: 44704581
BYTE_COUNT: 5793
