FILENAME: O4510853.NES.1050850.tif
QUADRANGLE_NAME: Big Ice Cave
QUADRANT: NE
WEST_LONGITUDE: -108 26 15.00000
EAST_LONGITUDE: -108 22 30.00000
NORTH_LATITUDE: 45 15 0.00000
SOUTH_LATITUDE: 45 11 15.00000
PRODUCTION_DATE: 2000 2 25
RASTER_ORDER: LEFT_RIGHT/TOP_BOTTOM
BAND_ORGANIZATION: SINGLE FILE
BAND_CONTENT: BLACK&WHITE
BAND_CONTENT: UNDEFINED
BAND_CONTENT: UNDEFINED
BITS_PER_PIXEL: 8
SAMPLES_AND_LINES: 5784 7708
HORIZONTAL_DATUM: NAD83
HORIZONTAL_COORDINATE_SYSTEM: UTM
COORDINATE_ZONE: 12
HORIZONTAL_UNITS: meters
HORIZONTAL_RESOLUTION: 1.00000
SECONDARY_HORIZONTAL_DATUM: NAD27
XY_ORIGIN: 700730.81000 5014374.64000
SECONDARY_XY_ORIGIN: 700789.97000 5014164.23600
NATION: US
STATE: MT
NW_QUAD_CORNER_XY: 701083.49400 5013917.35300
NE_QUAD_CORNER_XY: 705987.94400 5014075.13800
SE_QUAD_CORNERY_XY: 706213.89100 5007131.96100
SW_QUAD_CORNER_XY: 701304.05500 5006974.17400
SECONDARY_NW_QUAD_XY: 701089.46300 5013700.04200
SECONDARY_NE_QUAD_XY: 705994.05800 5013857.83200
SECONDARY_SE_QUAD_XY: 706220.00400 5006914.70700
SECONDARY_SW_QUAD_XY: 701310.02200 5006756.91500
RMSE_XY: 1.60000
IMAGE_SOURCE: BLACK & WHITE FILM
SOURCE_IMAGE_ID: NAPP 9161 067
SOURCE_IMAGE_DATE: 1998 7 12
SOURCE_IMAGE_ID: NAPP 9161 078
SOURCE_IMAGE_DATE: 1998 7 12
SOURCE_IMAGE_ID: NAPP 9161 066
SOURCE_IMAGE_DATE: 1998 7 12
SOURCE_IMAGE_ID: NAPP 9161 079
SOURCE_IMAGE_DATE: 1998 7 12
SOURCE_IMAGE_ID: NAPP 9161 068
SOURCE_IMAGE_DATE: 1998 7 12
SOURCE_DEM_DATE: 1963 1 1
AGENCY: ROCKY MOUNTAIN MAPPING CENTER (RMMC)
PRODUCER: ROCKY MOUNTAIN MAPPING CENTER (RMMC)
PRODUCTION_SYSTEM: ImageStation OrthoPro 02.02.01.06
COMPRESSION: UNDEFINED
STANDARD_VERSION: 1996 12
METADATA_DATE: 2000 2 25
DATA_FILE_SIZE: 44588856
BYTE_COUNT: 5784
