FILENAME: O4510853.SES.1050852.tif
QUADRANGLE_NAME: Big Ice Cave
QUADRANT: SE
WEST_LONGITUDE: -108 26 15.00000
EAST_LONGITUDE: -108 22 30.00000
NORTH_LATITUDE: 45 11 15.00000
SOUTH_LATITUDE: 45 7 30.00000
PRODUCTION_DATE: 2000 2 25
RASTER_ORDER: LEFT_RIGHT/TOP_BOTTOM
BAND_ORGANIZATION: SINGLE FILE
BAND_CONTENT: BLACK&WHITE
BAND_CONTENT: UNDEFINED
BAND_CONTENT: UNDEFINED
BITS_PER_PIXEL: 8
SAMPLES_AND_LINES: 5789 7708
HORIZONTAL_DATUM: NAD83
HORIZONTAL_COORDINATE_SYSTEM: UTM
COORDINATE_ZONE: 12
HORIZONTAL_UNITS: meters
HORIZONTAL_RESOLUTION: 1.00000
SECONDARY_HORIZONTAL_DATUM: NAD27
XY_ORIGIN: 700951.37000 5007431.46000
SECONDARY_XY_ORIGIN: 701010.52600 5007221.12500
NATION: US
STATE: MT
NW_QUAD_CORNER_XY: 701304.05500 5006974.17400
NE_QUAD_CORNER_XY: 706213.89100 5007131.96100
SE_QUAD_CORNERY_XY: 706439.59200 5000188.84400
SW_QUAD_CORNER_XY: 701524.37400 5000031.05500
SECONDARY_NW_QUAD_XY: 701310.02200 5006756.91500
SECONDARY_NE_QUAD_XY: 706220.00400 5006914.70700
SECONDARY_SE_QUAD_XY: 706445.70300 4999971.64300
SECONDARY_SW_QUAD_XY: 701530.34000 4999813.84900
RMSE_XY: 2.42000
IMAGE_SOURCE: BLACK & WHITE FILM
SOURCE_IMAGE_ID: NAPP 9161 079
SOURCE_IMAGE_DATE: 1998 7 12
SOURCE_IMAGE_ID: NAPP 9161 081
SOURCE_IMAGE_DATE: 1998 7 12
SOURCE_IMAGE_ID: NAPP 9161 065
SOURCE_IMAGE_DATE: 1998 7 12
SOURCE_IMAGE_ID: NAPP 9161 064
SOURCE_IMAGE_DATE: 1998 7 12
SOURCE_IMAGE_ID: NAPP 9161 066
SOURCE_IMAGE_DATE: 1998 7 12
SOURCE_DEM_DATE: 1963 1 1
AGENCY: ROCKY MOUNTAIN MAPPING CENTER (RMMC)
PRODUCER: ROCKY MOUNTAIN MAPPING CENTER (RMMC)
PRODUCTION_SYSTEM: ImageStation OrthoPro 02.02.01.06
COMPRESSION: UNDEFINED
STANDARD_VERSION: 1996 12
METADATA_DATE: 2000 2 25
DATA_FILE_SIZE: 44627401
BYTE_COUNT: 5789
